BEGIN:VCALENDAR
VERSION:2.0
PRODID:-//Love Helston | South Kerrier Alliance CIC - ECPv6.9.0//NONSGML v1.0//EN
CALSCALE:GREGORIAN
METHOD:PUBLISH
X-WR-CALNAME:Love Helston | South Kerrier Alliance CIC
X-ORIGINAL-URL:https://lovehelston.co.uk
X-WR-CALDESC:Events for Love Helston | South Kerrier Alliance CIC
REFRESH-INTERVAL;VALUE=DURATION:PT1H
X-Robots-Tag:noindex
X-PUBLISHED-TTL:PT1H
BEGIN:VTIMEZONE
TZID:Europe/London
BEGIN:DAYLIGHT
TZOFFSETFROM:+0000
TZOFFSETTO:+0100
TZNAME:BST
DTSTART:20250330T010000
END:DAYLIGHT
BEGIN:STANDARD
TZOFFSETFROM:+0100
TZOFFSETTO:+0000
TZNAME:GMT
DTSTART:20251026T010000
END:STANDARD
END:VTIMEZONE
BEGIN:VEVENT
DTSTART;TZID=Europe/London:20250504T100000
DTEND;TZID=Europe/London:20250504T160000
DTSTAMP:20260421T160411
CREATED:20250416T183446Z
LAST-MODIFIED:20250417T105631Z
UID:10000048-1746352800-1746374400@lovehelston.co.uk
SUMMARY:Pond Hoppers Spring Open Day
DESCRIPTION:🚤 Spring Open Day – Camborne Pond Hoppers at Coronation Park! 🚤Sunday 4th May | Coronation Park Boating Lake\, Helston\nJoin the Camborne Model Boat Club\, affectionately known as the Camborne Pond Hoppers\, as they host their Spring Open Day at Helston’s beautiful Coronation Park Boating Lake. \nModel boat clubs from across the South West – including Plymouth\, North Devon\, Millbrook\, Looe\, and of course West Cornwall – will be gathering for this special day of miniature maritime magic. Whether you’re a curious newcomer\, a keen enthusiast\, or simply looking for a great day out\, there’ll be plenty to enjoy! \n👀 What to Expect: \n\n\nDozens of meticulously crafted\, radio-controlled model boats and yachts on display and in action \n\n\nA huge variety of models including lifeboats\, warships\, tugs\, paddle steamers\, fishing boats\, ferries\, and possibly even a seaplane! \n\n\nThemed flotillas running every 45 minutes throughout the day \n\n\nExpert model makers on hand to showcase how these incredible crafts are built – perfect for anyone interested in getting started! \n\n\nThe Camborne Pond Hoppers were founded in 2000 by the late Godfrey Copeland. Since then\, with the kind support of South Kerrier Alliance CIC\, the club has made its home at Coronation Park\, where it continues to thrive. The Spring Open Day is one of two exciting public events the club holds each year. \n🛶 Don’t miss this rare opportunity to see these remarkable creations in action in the heart of Helston – a fun\, fascinating\, and free day out for all ages! \nThis event is being organised and run by Camborne Pond Hoppers.
URL:https://lovehelston.co.uk/event/pond-hoppers-spring-open-day/
LOCATION:Coronation Park\, Porthleven Rd\, Helston\, Cornwall\, TR13 0RA\, United Kingdom
CATEGORIES:Free event
ATTACH;FMTTYPE=image/jpeg:https://lovehelston.co.uk/wp-content/uploads/2025/01/coronation-park-2.jpg
END:VEVENT
END:VCALENDAR