BEGIN:VCALENDAR
VERSION:2.0
PRODID:-//Love Helston | South Kerrier Alliance CIC - ECPv6.9.0//NONSGML v1.0//EN
CALSCALE:GREGORIAN
METHOD:PUBLISH
X-ORIGINAL-URL:https://lovehelston.co.uk
X-WR-CALDESC:Events for Love Helston | South Kerrier Alliance CIC
REFRESH-INTERVAL;VALUE=DURATION:PT1H
X-Robots-Tag:noindex
X-PUBLISHED-TTL:PT1H
BEGIN:VTIMEZONE
TZID:Europe/London
BEGIN:DAYLIGHT
TZOFFSETFROM:+0000
TZOFFSETTO:+0100
TZNAME:BST
DTSTART:20250330T010000
END:DAYLIGHT
BEGIN:STANDARD
TZOFFSETFROM:+0100
TZOFFSETTO:+0000
TZNAME:GMT
DTSTART:20251026T010000
END:STANDARD
END:VTIMEZONE
BEGIN:VEVENT
DTSTART;TZID=Europe/London:20250508T110000
DTEND;TZID=Europe/London:20250508T170000
DTSTAMP:20260421T103244
CREATED:20250416T181319Z
LAST-MODIFIED:20250416T181319Z
UID:10000047-1746702000-1746723600@lovehelston.co.uk
SUMMARY:Flora Day at Coronation Park
DESCRIPTION:🌼 Celebrate Flora Day at Coronation Park! 🌼\nJoin us as we say goodbye to winter and welcome the joys of spring! \nAfter enjoying the iconic Flora Day dancing and the uplifting sounds of the band\, head down to Coronation Park and the Boating Lake for even more fun. \n🎶 The nostalgic tones of the Fairground Organ will be playing🛍️ Local crafters will be showcasing their creations on Events Square🎡 Raymonds Amusements will be bringing the fun with bouncy castles\, zorbs\, swing boats\, and miniature golf🍦 Grab a coffee\, ice cream\, or a bite to eat at the Lakeside Café🚶‍♀️ Then take a relaxing stroll around the lake and enjoy the festive atmosphere at the fair \nCome along and make the most of this special day with us in the heart of Helston! 💐✨ \n  \n  \nThe South Kerrier Alliance CIC own and run Coronation Park for the “benefit of the residents of Helston and The Lizard” and we want everyone to be able to enjoy Coronation Park.
URL:https://lovehelston.co.uk/event/flora-day-at-coronation-park/
LOCATION:Coronation Park\, Porthleven Rd\, Helston\, Cornwall\, TR13 0RA\, United Kingdom
CATEGORIES:Coronation Park Events
ATTACH;FMTTYPE=image/jpeg:https://lovehelston.co.uk/wp-content/uploads/2025/04/Cor-Park-Lake-24-1024x585-1.jpg
END:VEVENT
END:VCALENDAR