BEGIN:VCALENDAR
VERSION:2.0
PRODID:-//Love Helston | South Kerrier Alliance CIC - ECPv6.9.0//NONSGML v1.0//EN
CALSCALE:GREGORIAN
METHOD:PUBLISH
X-WR-CALNAME:Love Helston | South Kerrier Alliance CIC
X-ORIGINAL-URL:https://lovehelston.co.uk
X-WR-CALDESC:Events for Love Helston | South Kerrier Alliance CIC
REFRESH-INTERVAL;VALUE=DURATION:PT1H
X-Robots-Tag:noindex
X-PUBLISHED-TTL:PT1H
BEGIN:VTIMEZONE
TZID:Europe/London
BEGIN:DAYLIGHT
TZOFFSETFROM:+0000
TZOFFSETTO:+0100
TZNAME:BST
DTSTART:20260329T010000
END:DAYLIGHT
BEGIN:STANDARD
TZOFFSETFROM:+0100
TZOFFSETTO:+0000
TZNAME:GMT
DTSTART:20261025T010000
END:STANDARD
END:VTIMEZONE
BEGIN:VEVENT
DTSTART;TZID=Europe/London:20260413T100000
DTEND;TZID=Europe/London:20260525T120000
DTSTAMP:20260422T094809
CREATED:20260311T104015Z
LAST-MODIFIED:20260416T132636Z
UID:10000257-1776074400-1779710400@lovehelston.co.uk
SUMMARY:The Monday Create Space
DESCRIPTION:The Monday Create Space\nOrganised by South Kerrier Alliance CIC\nMonday’s 10.00am – 12.00pm\n\n The Monday Create Space \n\n Time: 10.00am – 12.00pm\n Location: Cattle Market\n\n\n\n\n\n The Monday Create Space \n\n\nJoin us for a fun\, friendly creative session where you can bring your own materials and projects or take part in weekly themed activities exploring different subjects and mediums.\nBasic materials are provided.\n\n\nThis relaxed\, welcoming group is perfect for anyone curious about being creative\, sharing ideas\, and enjoying a couple of hours with like-minded people. Expect inspiration\, experimentation\, and maybe even losing track of time!\n\n\n When: Monday 12th January\n Time: 10:00am – 12:00pm\n Where: The Old Cattle Market\n Price: £3.00 per session\n\n\nFor more information visit : info@theoldcattlemarket.co.uk\nFor all other events visit: www.lovehelston.co.uk\n#artgroup #mondayfun #newskills #metime #lovehelston
URL:https://lovehelston.co.uk/event/the-monday-create-space-2/
LOCATION:Old Cattle Market\, Porthleven Rd\, Helston\, Cornwall\, TR13 0SR\, United Kingdom
CATEGORIES:Old Cattle Market Events
ATTACH;FMTTYPE=image/jpeg:https://lovehelston.co.uk/wp-content/uploads/2026/01/monday-art-presentation.jpg
END:VEVENT
BEGIN:VEVENT
DTSTART;VALUE=DATE:20260416
DTEND;VALUE=DATE:20260417
DTSTAMP:20260422T094809
CREATED:20260313T151125Z
LAST-MODIFIED:20260411T094207Z
UID:10000465-1776297600-1776383999@lovehelston.co.uk
SUMMARY:Build A Band - Holiday Club - am & pm courses
DESCRIPTION:Limited HALF PRICE spaces available\, supported by additional funding from South Kerrier Alliance BOOK NOW!\n🎵 BUILD A BAND – 5 DAY HOLIDAY WORKSHOP 🎵\nEaster Break  – 13\,14\,15\,16 & 17 April\nAges 11-18 | 5-Day Workshop | Choose either Morning or Afternoon courses\nMorning cohort : 10am-1pm\nAfternoon cohort : 1:30pm-4:30pm\nBOOK HERE\nFrom Bedroom Musician to Band Member in Just 5 Days\nBoard of playing alone? Meet Your Future Bandmates!\n \nYou can play your instrument. You’ve learned some songs. You practice in your bedroom. But have you ever played in an actual band?\nThis is your chance to meet other young musicians\, form a band\, learn a song together\, and perform it live—all in just five days. \nWhat Happens Over the 5 Days? \n🤝 DAY 1: Meet Your Band (Monday) \nFIRST: Get to know everyone through icebreakers and a casual jam session. We’ll figure out who plays what and at what level\, then split into bands\, duos\, or trios based on your skills and musical tastes. \nTHEN: Your band chooses a song YOU want to learn (within your genre—rock\, pop\, indie\, whatever your groove is). Start working on it together and getting the basics down. \nThis is where the magic starts—strangers become bandmates. \n🎸 DAY 2 & 3: Make It Sound Good (Tuesday & Wednesday) \nPRACTICE\, practice\, practice. Get your song tight and performance-ready with guidance and support throughout the day. You’ll work on: \n\nPlaying together as a unit\nTiming and dynamics\nBand communication\nMaking it sound polished\n\nIf your band nails the song early? Great—choose another one and keep the momentum going! \n🌟 DAY 4: The final push & rehearsal (Thursday) \nFIRST: Final rehearsal to polish your performance. \nTHEN: Sound check\, stage setup\, then it’s time to decide a running order and then it’s time to perform to the group. \n🌟 DAY 5: Show Time (Friday) \nFIRST: Final rehearsal to polish your performance. \nTHEN: Sound check\, stage setup\, the it’s time to do this for real! Play in your new band to parents and friends\, you decide who to invite. (Shows start at 11.30am & 2.30pm) \nFrom “nice to meet you” to “playing live together” in three fun sessions. \nIs This For Me? \n✓ Perfect If You: \n\nCan already play your instrument at a basic level\nHave your own instrument (and amp if needed) – Talk to use if you need an instrument to take part\, we will see if we can help.\nPractice at home but have never been in a band\nWant to meet other young musicians your age\nAre aged 11-18\nAre ready to commit to all 5 half days\n\n✓ What Parents Should Know: \n\nStructured\, supervised workshop with experienced guidance\nTeaches collaboration\, commitment\, and confidence\nSafe environment for teens to develop social and musical skills\nAffordable at just £75 for the course (Just £37.50 for HALF PRICE tickets supported by South Kerrier Alliance – That’s just £7.50 per day!!!!)\nCulminates in a real performance opportunity\nShort break factored in midway through the session\, bring a snack and water bottle. \n\nWhat You’ll Need to Bring \n🎸 Your own instrument\n🔌 Your amp (if you play electric guitar/bass)\n🎒 A snack and drinks bottle\, we have a top-up water station\n💪 Enthusiasm and commitment for all 5 sessions \nIt’s best if you bring your own gear\, which you will use at your own risk. For drummers we have one drum kit available per session! \nThe Details\nWhen: Monday 13th – Friday 20th\nTime: Either: 10am – 1pm or 1.30pm – 4.30pm daily (Please note\, you cannot mix morning and afternoon sessions!)\nWho: Ages 11-18 who can already play their instrument\, or would like to sing\nCost: £75 for the course (Just £37.50 for HALF PRICE tickets supported by South Kerrier Alliance – That’s just £7.50 per day!!!!)\nWhere: The Basement \nFREE SPACES AVAILABLE We reserve 20% of spaces for FSM (Free school meals) Basement Members. Please book early to avoid disappointment (Join our membership scheme on the website today). \nOnce you’ve booked \nWe’ll send you a quick Google Form to help us put the right musicians together: \n\nWhat instrument do you play?\nCan you bring your own instrument and amp?\nWhat genre of music is your groove?\nHow old are you?\n\nThis helps us create balanced bands with compatible musical tastes. \nReady to Build Your Band? \nStop playing solo. Meet your people. Make some noise. \nLimited spaces available—you must be able to attend all 5 days to secure your spot. \nQuestions? Want to know if you’re ready? Get in touch! hello@lovehelston.co.uk \nBuild a Band Workshop – Where bedroom musicians become bandmates. \nWhat do I need to know? \n\nWho is The Basement for?\nThe Basement isn’t just another youth centre – it’s the space you asked for\, designed by you\, built for you. The space is primarily for 11-18 year olds. Your basement. Your rules. Your future starts here.\n\nI need dropping off in a car. Where?\nThe Basement is in Trengrouse Way pay and display car park. \n\n\nDo I have to book?\nWe have a limited capacity and booking means we can guarantee you a space.  If we have space available we may be able to take walk-ins on the day but we cannot guarantee this. \n\n\nWhat is access like?\nWe have level\, step-free access from the car park into the building as well as accessible toilets. If you have additional access needs please contact us on hello@lovehelston.co.uk or drop in. \n\n\nWhere is The Basement?\nWe are in the basement of Helston Gateway (the former Budgens supermarket building) next to The Parade and in Trengrouse Way car park. \n\n\nWhere can I find out more about The Basement?\nOn our website at www.lovehelston.co.uk or by contacting the Basement Team at hello@lovehelston.co.uk \n\n\nWill you be taking photos and video?\nWe often take photos so let everyone you’re booking tickets for know this. These photos\, films and recordings may be used at any time in print and online for evaluation\, promotion or in connection with other projects. If you would prefer to not be in photos please let staff at The Basement know.
URL:https://lovehelston.co.uk/event/build-a-band-holiday-club-morning/2026-04-16/
LOCATION:The Basement\, Helston Gateway\, The Parade\, Helston\, Cornwall\, TR13 8RT\, United Kingdom
CATEGORIES:The Basement
ATTACH;FMTTYPE=image/png:https://lovehelston.co.uk/wp-content/uploads/2026/01/Untitled-design-5.png
END:VEVENT
BEGIN:VEVENT
DTSTART;TZID=Europe/London:20260416T170000
DTEND;TZID=Europe/London:20260416T190000
DTSTAMP:20260422T094809
CREATED:20260224T155036Z
LAST-MODIFIED:20260409T173031Z
UID:10000567-1776358800-1776366000@lovehelston.co.uk
SUMMARY:Coach Frank Skate Workshop
DESCRIPTION:Drop-in Skate Workshop – sessions for Years 1-6 and Years 7-13\nwith Coach Frank\ncommencing 26th February – 16th April\nReady to improve your skating? Join Coach Frank for a drop-in skate workshop with indoor ramps and expert coaching. \nWhether you’re just getting started or want to nail some new tricks\, this session has you covered. Learn proper technique\, build your confidence\, and progress at your own pace in a supportive environment. \nWhat’s Happening:\nExpert tuition from Coach Frank and Team\n5.00-6.00pm Years 1-6Coached SessionPrice: £12.00 per skater.\n6.00-7.00pm Years 7-13 (11+ years)Coached SessionPrice: £5.00 per skater  or Free for Basement Members (find out how to become a Basement Member at the venue or on our website)\nDrop-in format – come and go as you likeAll skill levels welcomeGet tips on technique\, safety\, and progressing your skills\nNo need to book ahead – just turn up with your board and helmet\, and Coach Frank will help you take your skating to the next level. Perfect whether you’re finding your feet or ready to push your limits.\nWhat do I need to know?\n\n\nBring your own board and safety gear if you have it. We’ll provide some if you haven’t got any.\n\n\nAll participants should arrive with appropriate footwear – which includes trainers\, gym shoes or plimsolls. Please do not wear sandals (including crocs)\, flip-flops or other open-toed shoes\, or shoes with raised heels or wedges.\n\n\nWho is The Basement for?\nThe Basement isn’t just another youth centre – it’s the space you asked for\, designed by you\, built for you. The space is primarily for 11-18 year olds. Your basement. Your rules. Your future starts here.\n\n\nI need dropping off in a car. Where?\nThe Basement is in Trengrouse Way pay and display car park.\n\n\nDo I have to book?\nWe have a limited capacity and booking means we can guarantee you a space. You can still turn up on the day and\, if we have room\, you’ll be able to come in.\n\n\nWhat is access like?\nWe have level\, step-free access from the car park into the building as well as accessible toilets. If you have additional access needs please contact us on hello@lovehelston.co.uk or drop in.\n\n\nWhere is The Basement?\nWe are in the basement of Helston Gateway (the former Budgens supermarket building) next to The Parade and in Trengrouse Way car park.\n\n\nWhere can I find out more about The Basement?\nOn our website at www.lovehelston.co.uk or by contacting hello@lovehelston.co.uk\n\n\nWill you be taking photos and video?\nWe often take photos so let everyone you’re booking tickets for know this. These photos\, films and recordings may be used at any time in print and online for evaluation\, promotion or in connection with other projects. If you would prefer to not be in photos please let staff at The Basement know.
URL:https://lovehelston.co.uk/event/coach-frank-skate-workshop/2026-04-16/
LOCATION:The Basement\, Helston Gateway\, The Parade\, Helston\, Cornwall\, TR13 8RT\, United Kingdom
CATEGORIES:The Basement
ATTACH;FMTTYPE=image/jpeg:https://lovehelston.co.uk/wp-content/uploads/2025/12/Untitled-design-4.jpg
END:VEVENT
END:VCALENDAR