BEGIN:VCALENDAR
VERSION:2.0
PRODID:-//Love Helston | South Kerrier Alliance CIC - ECPv6.9.0//NONSGML v1.0//EN
CALSCALE:GREGORIAN
METHOD:PUBLISH
X-ORIGINAL-URL:https://lovehelston.co.uk
X-WR-CALDESC:Events for Love Helston | South Kerrier Alliance CIC
REFRESH-INTERVAL;VALUE=DURATION:PT1H
X-Robots-Tag:noindex
X-PUBLISHED-TTL:PT1H
BEGIN:VTIMEZONE
TZID:Europe/London
BEGIN:DAYLIGHT
TZOFFSETFROM:+0000
TZOFFSETTO:+0100
TZNAME:BST
DTSTART:20250330T010000
END:DAYLIGHT
BEGIN:STANDARD
TZOFFSETFROM:+0100
TZOFFSETTO:+0000
TZNAME:GMT
DTSTART:20251026T010000
END:STANDARD
END:VTIMEZONE
BEGIN:VEVENT
DTSTART;TZID=Europe/London:20250810T080000
DTEND;TZID=Europe/London:20250810T090000
DTSTAMP:20260425T230357
CREATED:20250605T104501Z
LAST-MODIFIED:20250605T105816Z
UID:10000055-1754812800-1754816400@lovehelston.co.uk
SUMMARY:FREE Yoga in Coronation Park
DESCRIPTION:FREE Yoga in Coronation Park\nwith Kirsty\nA South Kerrier Alliance Funded Project\nMultiple Dates starting Sunday 15th June\nYoga is beneficial for both the body and mind\, offering a range of physical and mental health advantages.  It enhances flexibility\, strength and balance\, while also promoting stress relief and improved mental well-being. Regular practice can lead to better sleep\, reduced anxiety\, and improved mood.  \nThe South Kerrier Alliance CIC own and run Coronation Park for the “benefit of the residents of Helston and The Lizard” and we want everyone to be able to enjoy our events. \nThe series of Yoga sessions in Coronation Park is being funded by South Kerrier Alliance CIC.  If you would like to support more free yoga sessions in the park and other events you can donate via this link Donate Here\n🧘 Yoga at Coronation Park – Everything You Need to Know\nWho can take part?We welcome everyone — from total beginners to experienced yogis! Kirsty\, our qualified and experienced instructor\, is great at leading mixed-ability sessions. It’s the perfect chance to try yoga for the first time. \nHowever\, please note: \n\n\nIf you’re under the care of a doctor or medical professional\, speak with them before attending. \n\n\nIf you’ve been advised not to take part in physical activity\, are pregnant\, or have a medical condition\, illness\, or injury\, please do not take part in Yoga in the Park. \n\n\nKirsty cannot offer specific medical advice\, but she ensures plenty of accessible options during the session. \n\n\nYoga is a physical activity and you participate at your own risk. \n\nDo I need to book?No booking needed — just turn up! Please arrive on time as important safety info and the warm-up happen at the start. Latecomers won’t be able to join the session. \n\nAre families welcome?Yes! Children under 18 must be accompanied by a parent or carer\, who should stay nearby at all times. Parents/carers are fully responsible for their children during the session. \n\nWhat should I bring? \n\n\nA yoga mat (or towel/blanket if you don’t have one). \n\n\nA limited number of mats will be available to borrow. \n\n\nWater and anything else to help you feel comfortable. \n\n\n\nWhat should I wear?Anything comfy that you can move and stretch in! \n\nWhat if it rains?Sessions continue in light rain under the Pavilion. For heavier weather\, check the Coronation Park Facebook page — cancellations will be announced at least 1 hour before the session. \n\nParking \n\n\nSmall pay & display car park at Coronation Park (proceeds support the park). \n\n\nLarger car park at Castle Green. \n\n\nFree parking nearby at Fairground car park. \n\n\n\nToiletsAvailable at The Old Cattle Market during yoga sessions. \n\nOther FAQs🚫 Dogs are not permitted at yoga sessions.📸 Events may be filmed/photographed and used by South Kerrier Alliance CIC or partners for promotion/evaluation. Attendees are responsible for informing their group. \n 
URL:https://lovehelston.co.uk/event/free-yoga-in-coronation-park/2025-08-10/
LOCATION:Coronation Park\, Porthleven Rd\, Helston\, Cornwall\, TR13 0RA\, United Kingdom
CATEGORIES:Coronation Park Events,Free event
ATTACH;FMTTYPE=image/jpeg:https://lovehelston.co.uk/wp-content/uploads/2025/06/pexels-rui-dias-469842-1472887-2.jpg
END:VEVENT
BEGIN:VEVENT
DTSTART;TZID=Europe/London:20250816T143000
DTEND;TZID=Europe/London:20250816T153000
DTSTAMP:20260425T230357
CREATED:20250310T121826Z
LAST-MODIFIED:20250326T140221Z
UID:10000027-1755354600-1755358200@lovehelston.co.uk
SUMMARY:Squashbox: Curious Creatures
DESCRIPTION:Curious Creatures\nby Squashbox Theatre\nSaturday 16th August at 2.30pm\nFREE EVENT\nWelcome to the Curious Creatures wildlife park\, established by Jeremiah Johnson: world-renowned explorer\, zoologist and animal collector. Nobody knows more about animals than him. \nUnfortunately\, Jeremiah Johnson is currently lost somewhere in the jungles of Africa\, so he has handed the running of the park over to his inexperienced nephew Craig… and things don’t quite go as planned. \nExpect to meet curious creatures of all shapes and sizes: from performing fleas\, skateboarding snails and gymnastic gerbils to irritable alligators\, over-excited elephants\, and a very intelligent orang-utan! Learn about how animals evolved\, how their amazing adaptations help them survive in the wild\, and how animals can help us learn more about ourselves. After all\, we’re all related if you go back far enough! \nUsing puppets\, comedy\, slapstick and live music – plus lots of amazing natural history facts – Squashbox Theatre will uncover the mysteries of the animal kingdom. \n(No animals were harmed in the making of this show. But several puppets were mildly traumatised.) \nWhat do I need to know? \n\nPlease bring your own chairs and/or blankets for this event. Seating is not provided.\nLakeside Cafe will be open\, serving a range of hot and cold drinks\, snacks and meals.\nThis open-air event takes place in Events Square\, directly outside Lakeside Cafe at Coronation Park\, Helston\, TR13 0RA.\nOutdoor events will only be cancelled in extreme weather conditions\, so please bring a coat (but not an umbrella as it blocks the view of other audience members).\nThere is a small pay and display car park at Coronation Park\, proceeds from the car park supports the running of Coronation Park. There is a larger Cornwall Council pay and display car park at Castle Green. Free parking is available at the nearby Fairground car park.\nThere is level access to Coronation Park and Events Square. If you have any additional access needs that you’d like to discuss with us please email Guy on guy@theoldcattlemarket.co.uk.\nThere are accessible toilets at the rear of Lakeside Cafe.\nUnfortunately\, dogs are not permitted at events.\nEvents may be filmed or photographed and the material may be used by the South Kerrier Alliance CIC and it’s partner companies/organisations at any time for evaluation\, promotion or other projects. Please be aware that it is the ticket buyer’s responsibility to inform members of their party that this will be happening.
URL:https://lovehelston.co.uk/event/curious-creatures/
LOCATION:Coronation Park\, Porthleven Rd\, Helston\, Cornwall\, TR13 0RA\, United Kingdom
CATEGORIES:Coronation Park Events,Free event
ATTACH;FMTTYPE=image/jpeg:https://lovehelston.co.uk/wp-content/uploads/2025/03/Untitled-3-1.jpeg
END:VEVENT
BEGIN:VEVENT
DTSTART;TZID=Europe/London:20250817T080000
DTEND;TZID=Europe/London:20250817T090000
DTSTAMP:20260425T230357
CREATED:20250605T104501Z
LAST-MODIFIED:20250605T105816Z
UID:10000056-1755417600-1755421200@lovehelston.co.uk
SUMMARY:FREE Yoga in Coronation Park
DESCRIPTION:FREE Yoga in Coronation Park\nwith Kirsty\nA South Kerrier Alliance Funded Project\nMultiple Dates starting Sunday 15th June\nYoga is beneficial for both the body and mind\, offering a range of physical and mental health advantages.  It enhances flexibility\, strength and balance\, while also promoting stress relief and improved mental well-being. Regular practice can lead to better sleep\, reduced anxiety\, and improved mood.  \nThe South Kerrier Alliance CIC own and run Coronation Park for the “benefit of the residents of Helston and The Lizard” and we want everyone to be able to enjoy our events. \nThe series of Yoga sessions in Coronation Park is being funded by South Kerrier Alliance CIC.  If you would like to support more free yoga sessions in the park and other events you can donate via this link Donate Here\n🧘 Yoga at Coronation Park – Everything You Need to Know\nWho can take part?We welcome everyone — from total beginners to experienced yogis! Kirsty\, our qualified and experienced instructor\, is great at leading mixed-ability sessions. It’s the perfect chance to try yoga for the first time. \nHowever\, please note: \n\n\nIf you’re under the care of a doctor or medical professional\, speak with them before attending. \n\n\nIf you’ve been advised not to take part in physical activity\, are pregnant\, or have a medical condition\, illness\, or injury\, please do not take part in Yoga in the Park. \n\n\nKirsty cannot offer specific medical advice\, but she ensures plenty of accessible options during the session. \n\n\nYoga is a physical activity and you participate at your own risk. \n\nDo I need to book?No booking needed — just turn up! Please arrive on time as important safety info and the warm-up happen at the start. Latecomers won’t be able to join the session. \n\nAre families welcome?Yes! Children under 18 must be accompanied by a parent or carer\, who should stay nearby at all times. Parents/carers are fully responsible for their children during the session. \n\nWhat should I bring? \n\n\nA yoga mat (or towel/blanket if you don’t have one). \n\n\nA limited number of mats will be available to borrow. \n\n\nWater and anything else to help you feel comfortable. \n\n\n\nWhat should I wear?Anything comfy that you can move and stretch in! \n\nWhat if it rains?Sessions continue in light rain under the Pavilion. For heavier weather\, check the Coronation Park Facebook page — cancellations will be announced at least 1 hour before the session. \n\nParking \n\n\nSmall pay & display car park at Coronation Park (proceeds support the park). \n\n\nLarger car park at Castle Green. \n\n\nFree parking nearby at Fairground car park. \n\n\n\nToiletsAvailable at The Old Cattle Market during yoga sessions. \n\nOther FAQs🚫 Dogs are not permitted at yoga sessions.📸 Events may be filmed/photographed and used by South Kerrier Alliance CIC or partners for promotion/evaluation. Attendees are responsible for informing their group. \n 
URL:https://lovehelston.co.uk/event/free-yoga-in-coronation-park/2025-08-17/
LOCATION:Coronation Park\, Porthleven Rd\, Helston\, Cornwall\, TR13 0RA\, United Kingdom
CATEGORIES:Coronation Park Events,Free event
ATTACH;FMTTYPE=image/jpeg:https://lovehelston.co.uk/wp-content/uploads/2025/06/pexels-rui-dias-469842-1472887-2.jpg
END:VEVENT
BEGIN:VEVENT
DTSTART;TZID=Europe/London:20250823T143000
DTEND;TZID=Europe/London:20250823T153000
DTSTAMP:20260425T230357
CREATED:20250310T122052Z
LAST-MODIFIED:20250326T140251Z
UID:10000028-1755959400-1755963000@lovehelston.co.uk
SUMMARY:Squashbox: Myths & Monsters
DESCRIPTION:Myths & Monsters\nby Squashbox Theatre\nSaturday 23rd August at 2.30pm\nFREE EVENT – No booking required\nWhere can you find a creature that is half eagle and half lion? Or one that is half horse\, half fish? Or half lion\, half goat and half snake? \nWait\, that’s impossible… or is it? \nNot in the crazy\, mixed-up world of ancient Greek stories\, it’s not! \nLet Craig Johnson of Squashbox Theatre guide you through this strange\, magical world\, using a quirky and ingenious blend of puppetry\, storytelling\, live music and comedy – all presented in that unique Squashbox style! Meet the brave heroes and immortal gods of ancient Greece\, such as Heracles\, Odysseus\, Perseus\, Zeus and Aphrodite! Encounter some of the mixed-up monsters of legend\, such as the Minotaur\, the Harpies\, the Cyclops and the terrifying gorgon\, Medusa! Learn about the ways ancient Greece has shaped the modern world\, from theatre and philosophy to mathematics and music! \nWe have consulted the mysterious Oracle of Delphi and seen the future: and we can guarantee that this will be legendary! \nWhat do I need to know? \n\nPlease bring your own chairs and/or blankets for this event. Seating is not provided.\nLakeside Cafe will be open\, serving a range of hot and cold drinks\, snacks and meals.\nThis open-air event takes place in Events Square\, directly outside Lakeside Cafe at Coronation Park\, Helston\, TR13 0RA.\nOutdoor events will only be cancelled in extreme weather conditions\, so please bring a coat (but not an umbrella as it blocks the view of other audience members).\nThere is a small pay and display car park at Coronation Park\, proceeds from the car park supports the running of Coronation Park. There is a larger Cornwall Council pay and display car park at Castle Green. Free parking is available at the nearby Fairground car park.\nThere is level access to Coronation Park and Events Square. If you have any additional access needs that you’d like to discuss with us please email Guy on guy@theoldcattlemarket.co.uk.\nThere are accessible toilets at the rear of Lakeside Cafe.\nUnfortunately\, dogs are not permitted at events.\nEvents may be filmed or photographed and the material may be used by the South Kerrier Alliance CIC and it’s partner companies/organisations at any time for evaluation\, promotion or other projects. Please be aware that it is the ticket buyer’s responsibility to inform members of their party that this will be happening.
URL:https://lovehelston.co.uk/event/myths-monsters/
LOCATION:Coronation Park\, Porthleven Rd\, Helston\, Cornwall\, TR13 0RA\, United Kingdom
CATEGORIES:Coronation Park Events,Free event
ATTACH;FMTTYPE=image/jpeg:https://lovehelston.co.uk/wp-content/uploads/2025/03/Untitled-4.jpeg
END:VEVENT
BEGIN:VEVENT
DTSTART;TZID=Europe/London:20250824T080000
DTEND;TZID=Europe/London:20250824T090000
DTSTAMP:20260425T230357
CREATED:20250605T104501Z
LAST-MODIFIED:20250605T105816Z
UID:10000057-1756022400-1756026000@lovehelston.co.uk
SUMMARY:FREE Yoga in Coronation Park
DESCRIPTION:FREE Yoga in Coronation Park\nwith Kirsty\nA South Kerrier Alliance Funded Project\nMultiple Dates starting Sunday 15th June\nYoga is beneficial for both the body and mind\, offering a range of physical and mental health advantages.  It enhances flexibility\, strength and balance\, while also promoting stress relief and improved mental well-being. Regular practice can lead to better sleep\, reduced anxiety\, and improved mood.  \nThe South Kerrier Alliance CIC own and run Coronation Park for the “benefit of the residents of Helston and The Lizard” and we want everyone to be able to enjoy our events. \nThe series of Yoga sessions in Coronation Park is being funded by South Kerrier Alliance CIC.  If you would like to support more free yoga sessions in the park and other events you can donate via this link Donate Here\n🧘 Yoga at Coronation Park – Everything You Need to Know\nWho can take part?We welcome everyone — from total beginners to experienced yogis! Kirsty\, our qualified and experienced instructor\, is great at leading mixed-ability sessions. It’s the perfect chance to try yoga for the first time. \nHowever\, please note: \n\n\nIf you’re under the care of a doctor or medical professional\, speak with them before attending. \n\n\nIf you’ve been advised not to take part in physical activity\, are pregnant\, or have a medical condition\, illness\, or injury\, please do not take part in Yoga in the Park. \n\n\nKirsty cannot offer specific medical advice\, but she ensures plenty of accessible options during the session. \n\n\nYoga is a physical activity and you participate at your own risk. \n\nDo I need to book?No booking needed — just turn up! Please arrive on time as important safety info and the warm-up happen at the start. Latecomers won’t be able to join the session. \n\nAre families welcome?Yes! Children under 18 must be accompanied by a parent or carer\, who should stay nearby at all times. Parents/carers are fully responsible for their children during the session. \n\nWhat should I bring? \n\n\nA yoga mat (or towel/blanket if you don’t have one). \n\n\nA limited number of mats will be available to borrow. \n\n\nWater and anything else to help you feel comfortable. \n\n\n\nWhat should I wear?Anything comfy that you can move and stretch in! \n\nWhat if it rains?Sessions continue in light rain under the Pavilion. For heavier weather\, check the Coronation Park Facebook page — cancellations will be announced at least 1 hour before the session. \n\nParking \n\n\nSmall pay & display car park at Coronation Park (proceeds support the park). \n\n\nLarger car park at Castle Green. \n\n\nFree parking nearby at Fairground car park. \n\n\n\nToiletsAvailable at The Old Cattle Market during yoga sessions. \n\nOther FAQs🚫 Dogs are not permitted at yoga sessions.📸 Events may be filmed/photographed and used by South Kerrier Alliance CIC or partners for promotion/evaluation. Attendees are responsible for informing their group. \n 
URL:https://lovehelston.co.uk/event/free-yoga-in-coronation-park/2025-08-24/
LOCATION:Coronation Park\, Porthleven Rd\, Helston\, Cornwall\, TR13 0RA\, United Kingdom
CATEGORIES:Coronation Park Events,Free event
ATTACH;FMTTYPE=image/jpeg:https://lovehelston.co.uk/wp-content/uploads/2025/06/pexels-rui-dias-469842-1472887-2.jpg
END:VEVENT
BEGIN:VEVENT
DTSTART;TZID=Europe/London:20250827T140000
DTEND;TZID=Europe/London:20250827T160000
DTSTAMP:20260425T230357
CREATED:20250815T181910Z
LAST-MODIFIED:20250815T182041Z
UID:10000065-1756303200-1756310400@lovehelston.co.uk
SUMMARY:Sing: Open-Air Cinema
DESCRIPTION:Sing: Open-Air Cinema *NEW EVENT ADDED*\nOrganised by the South Kerrier Alliance CIC\nWednesday 27th August at 2pm\nFREE EVENT (no need to book – just turn up) \nGet ready to find your voice at our FREE outdoor screening of Illumination’s Sing! \nJoin Buster Moon\, the eternally optimistic koala\, as he stages the singing competition of a lifetime to save his beloved theatre. Watch as a cast of lovable animal characters – from shy elephant Meena to punk-rock porcupine Ash – discover their hidden talents and chase their dreams on stage. \nPacked with incredible musical performances\, heartfelt moments\, and plenty of laughs\, this uplifting animated adventure celebrates the power of music to bring communities together and help everyone find their unique voice. With a soundtrack featuring beloved classics and contemporary hits\, it’s a feel-good film that will have the whole family tapping their feet and singing along. \nWhether you’re a music lover or simply enjoy heartwarming stories about following your dreams\, this free community screening promises an afternoon of pure entertainment that will inspire and delight audiences of all ages. \nBring your blankets and folding chairs to settle in for this toe-tapping musical adventure. Pack a picnic or grab some snacks to enjoy during the show. \nDon’t miss this chance to experience the joy and music of Sing on the big screen in the beautiful outdoors – completely FREE! \nThis film is rated U. \nWhat do I need to know? \n\nPlease bring your own chairs and/or blankets for this event. Seating is not provided.\nThis open-air event takes place in Events Square\, directly outside Lakeside Cafe at Coronation Park\, Helston\, TR13 0RA.\nOutdoor events will only be cancelled in extreme weather conditions\, so please bring a coat (but not an umbrella as it blocks the view of other audience members).\nThere is a small pay and display car park at Coronation Park\, all proceeds from this car park supports the running of Coronation Park.   There is a larger car park at Castle Green. Free parking is available at the nearby Fairground car park.\nThere is level access to Coronation Park and Events Square. If you have any additional access needs that you’d like to discuss with us please email Guy on guy@theoldcattlemarket.co.uk.\nThere are accessible toilets at the rear of Lakeside Cafe.\nEvents may be filmed or photographed and the material may be used by the South Kerrier Alliance CIC and it’s partner companies/organisations at any time for evaluation\, promotion or other projects. Please be aware that it is the ticket buyer’s responsibility to inform members of their party that this will be happening.
URL:https://lovehelston.co.uk/event/sing-open-air-cinema/
LOCATION:Coronation Park\, Porthleven Rd\, Helston\, Cornwall\, TR13 0RA\, United Kingdom
CATEGORIES:Coronation Park Events,Free event
ATTACH;FMTTYPE=image/jpeg:https://lovehelston.co.uk/wp-content/uploads/2025/08/Sing-image.jpg
END:VEVENT
BEGIN:VEVENT
DTSTART;TZID=Europe/London:20250830T143000
DTEND;TZID=Europe/London:20250830T153000
DTSTAMP:20260425T230357
CREATED:20250310T123257Z
LAST-MODIFIED:20250829T155919Z
UID:10000030-1756564200-1756567800@lovehelston.co.uk
SUMMARY:POSTPONED Squashbox: Stones & Bones
DESCRIPTION:Stones & Bones\nby Squashbox Theatre\nPOSTPONED DUE TO POOR WEATHER\nFREE EVENT\nCome on a journey to Ancient Cornwall… \nA land of fiery volcanoes and strange prehistoric creatures… \nA land of myth and legend\, giants and druids… \nA land of ancient stone circles and mysterious monuments… \nA land of Stones and Bones… \n​Stones And Bones is a marvellous mix of history and mystery! \nFind out all about archaeology and fossils\, say hello to one of your stone-age ancestors\, hear stories of giants and wizards\, see a volcano erupting before your very eyes\, and maybe even glimpse a dinosaur or two… \nWhat do I need to know? \n\nPlease bring your own chairs and/or blankets for this event. Seating is not provided.\nLakeside Cafe will be open\, serving a range of hot and cold drinks\, snacks and meals.\nThis open-air event takes place in Events Square\, directly outside Lakeside Cafe at Coronation Park\, Helston\, TR13 0RA.\nOutdoor events will only be cancelled in extreme weather conditions\, so please bring a coat (but not an umbrella as it blocks the view of other audience members).\nThere is a small pay and display car park at Coronation Park\, proceeds from the car park supports the running of Coronation Park. There is a larger Cornwall Council pay and display car park at Castle Green. Free parking is available at the nearby Fairground car park.\nThere is level access to Coronation Park and Events Square. If you have any additional access needs that you’d like to discuss with us please email Guy on guy@theoldcattlemarket.co.uk.\nThere are accessible toilets at the rear of Lakeside Cafe.\nUnfortunately\, dogs are not permitted at events.\nEvents may be filmed or photographed and the material may be used by the South Kerrier Alliance CIC and it’s partner companies/organisations at any time for evaluation\, promotion or other projects. Please be aware that it is the ticket buyer’s responsibility to inform members of their party that this will be happening.
URL:https://lovehelston.co.uk/event/stones-bones/
LOCATION:Coronation Park\, Porthleven Rd\, Helston\, Cornwall\, TR13 0RA\, United Kingdom
CATEGORIES:Coronation Park Events,Free event
ATTACH;FMTTYPE=image/jpeg:https://lovehelston.co.uk/wp-content/uploads/2025/03/Untitled-6.jpeg
END:VEVENT
BEGIN:VEVENT
DTSTART;TZID=Europe/London:20250831T080000
DTEND;TZID=Europe/London:20250831T090000
DTSTAMP:20260425T230357
CREATED:20250605T104501Z
LAST-MODIFIED:20250605T105816Z
UID:10000058-1756627200-1756630800@lovehelston.co.uk
SUMMARY:FREE Yoga in Coronation Park
DESCRIPTION:FREE Yoga in Coronation Park\nwith Kirsty\nA South Kerrier Alliance Funded Project\nMultiple Dates starting Sunday 15th June\nYoga is beneficial for both the body and mind\, offering a range of physical and mental health advantages.  It enhances flexibility\, strength and balance\, while also promoting stress relief and improved mental well-being. Regular practice can lead to better sleep\, reduced anxiety\, and improved mood.  \nThe South Kerrier Alliance CIC own and run Coronation Park for the “benefit of the residents of Helston and The Lizard” and we want everyone to be able to enjoy our events. \nThe series of Yoga sessions in Coronation Park is being funded by South Kerrier Alliance CIC.  If you would like to support more free yoga sessions in the park and other events you can donate via this link Donate Here\n🧘 Yoga at Coronation Park – Everything You Need to Know\nWho can take part?We welcome everyone — from total beginners to experienced yogis! Kirsty\, our qualified and experienced instructor\, is great at leading mixed-ability sessions. It’s the perfect chance to try yoga for the first time. \nHowever\, please note: \n\n\nIf you’re under the care of a doctor or medical professional\, speak with them before attending. \n\n\nIf you’ve been advised not to take part in physical activity\, are pregnant\, or have a medical condition\, illness\, or injury\, please do not take part in Yoga in the Park. \n\n\nKirsty cannot offer specific medical advice\, but she ensures plenty of accessible options during the session. \n\n\nYoga is a physical activity and you participate at your own risk. \n\nDo I need to book?No booking needed — just turn up! Please arrive on time as important safety info and the warm-up happen at the start. Latecomers won’t be able to join the session. \n\nAre families welcome?Yes! Children under 18 must be accompanied by a parent or carer\, who should stay nearby at all times. Parents/carers are fully responsible for their children during the session. \n\nWhat should I bring? \n\n\nA yoga mat (or towel/blanket if you don’t have one). \n\n\nA limited number of mats will be available to borrow. \n\n\nWater and anything else to help you feel comfortable. \n\n\n\nWhat should I wear?Anything comfy that you can move and stretch in! \n\nWhat if it rains?Sessions continue in light rain under the Pavilion. For heavier weather\, check the Coronation Park Facebook page — cancellations will be announced at least 1 hour before the session. \n\nParking \n\n\nSmall pay & display car park at Coronation Park (proceeds support the park). \n\n\nLarger car park at Castle Green. \n\n\nFree parking nearby at Fairground car park. \n\n\n\nToiletsAvailable at The Old Cattle Market during yoga sessions. \n\nOther FAQs🚫 Dogs are not permitted at yoga sessions.📸 Events may be filmed/photographed and used by South Kerrier Alliance CIC or partners for promotion/evaluation. Attendees are responsible for informing their group. \n 
URL:https://lovehelston.co.uk/event/free-yoga-in-coronation-park/2025-08-31/
LOCATION:Coronation Park\, Porthleven Rd\, Helston\, Cornwall\, TR13 0RA\, United Kingdom
CATEGORIES:Coronation Park Events,Free event
ATTACH;FMTTYPE=image/jpeg:https://lovehelston.co.uk/wp-content/uploads/2025/06/pexels-rui-dias-469842-1472887-2.jpg
END:VEVENT
END:VCALENDAR