BEGIN:VCALENDAR
VERSION:2.0
PRODID:-//Love Helston | South Kerrier Alliance CIC - ECPv6.9.0//NONSGML v1.0//EN
CALSCALE:GREGORIAN
METHOD:PUBLISH
X-ORIGINAL-URL:https://lovehelston.co.uk
X-WR-CALDESC:Events for Love Helston | South Kerrier Alliance CIC
REFRESH-INTERVAL;VALUE=DURATION:PT1H
X-Robots-Tag:noindex
X-PUBLISHED-TTL:PT1H
BEGIN:VTIMEZONE
TZID:Europe/London
BEGIN:DAYLIGHT
TZOFFSETFROM:+0000
TZOFFSETTO:+0100
TZNAME:BST
DTSTART:20250330T010000
END:DAYLIGHT
BEGIN:STANDARD
TZOFFSETFROM:+0100
TZOFFSETTO:+0000
TZNAME:GMT
DTSTART:20251026T010000
END:STANDARD
END:VTIMEZONE
BEGIN:VEVENT
DTSTART;TZID=Europe/London:20251022T100000
DTEND;TZID=Europe/London:20251022T123000
DTSTAMP:20260425T204216
CREATED:20251014T200854Z
LAST-MODIFIED:20251014T200854Z
UID:10000137-1761127200-1761136200@lovehelston.co.uk
SUMMARY:Drop-in Surfskate (free)
DESCRIPTION:Surfskate (age 11+)\nwith Kernow Surfskate Academy and Smoothstar Coach Adam Zacek\n10am – 12.30pm on Wednesday 22nd October\nCome try surf skating with Kernow Surfskate Academy and Smoothstar Coach Adam Zacek. \nSurf skating is one of the best ways to improve your surf skills when you’re not in the water. It mimics the flow and movements of surfing\, helping you nail your technique\, build muscle memory\, and boost your confidence on the board. \nWhat’s Happening: \n\nDrop-in anytime between 10:00am and 12:30pm\nTutored sessions every 30 minutes – jump in whenever suits you\nWatch demos\, have a go\, and get tips from an expert coach\nAll abilities welcome – whether you’re just starting out or already surf\nEquipment provided\n\nNo pressure to stay for the whole thing – just turn up\, give it a go\, and see what surf skating is all about. Perfect for anyone who wants to progress their surfing or just try something new. \nOpen to ages 11+ \nWhat do I need to know? \n\n\nWho is The Basement for?\nThe Basement isn’t just another youth centre – it’s the space you asked for\, designed by you\, built for you. The space is primarily for 13-18 year olds. Your basement. Your rules. Your future starts here. \n\n\nI need dropping off in a car. Where?\nThe Basement is in Trengrouse Way pay and display car park. \n\n\nDo I have to book?\nWe have a limited capacity and booking means we can guarantee you a space. You can still turn up on the day and\, if we have room\, you’ll be able to come in. \n\n\nWhat is access like?\nWe have level\, step-free access from the car park into the building as well as accessible toilets. If you have additional access needs please contact us on jonathan@lovehelston.co.uk or drop in. \n\n\nWhere is The Basement?\nWe are in the basement of Helston Gateway (the former Budgens supermarket building) next to The Parade and in Trengrouse Way car park. \n\n\nWhere can I find out more about The Basement?\nOn our website at www.lovehelston.co.uk or by contacting Jonathan at jonathan@lovehelston.co.uk \n\n\nWill you be taking photos and video?\nWe often take photos so let everyone you’re booking tickets for know this. These photos\, films and recordings may be used at any time in print and online for evaluation\, promotion or in connection with other projects. If you would prefer to not be in photos please let staff at The Basement know.
URL:https://lovehelston.co.uk/event/surfskate/
LOCATION:The Basement\, Helston Gateway\, The Parade\, Helston\, Cornwall\, TR13 8RT\, United Kingdom
CATEGORIES:Free event,The Basement
ATTACH;FMTTYPE=image/jpeg:https://lovehelston.co.uk/wp-content/uploads/2025/10/Untitled-design-5.jpg
END:VEVENT
BEGIN:VEVENT
DTSTART;TZID=Europe/London:20251023T190000
DTEND;TZID=Europe/London:20251023T190000
DTSTAMP:20260425T204216
CREATED:20251002T112208Z
LAST-MODIFIED:20251023T094020Z
UID:10000132-1761246000-1761246000@lovehelston.co.uk
SUMMARY:Fireside (venue change)
DESCRIPTION:Fireside\nby Nikki & JD and in collaboration with Lost Dog\npresented in Helston by Trevow Helston\, South Kerrier Alliance CIC & Carn to Cove\nwith support from Helston Town Council\nTHIS EVENT WILL NOW TAKE PLACE INDOORS AT HELSTON COMMUNITY COLLEGE (NORTH SITE)\nGather around the fire and let us remind you of what it was to be afraid of the dark. Don’t build the fire too high\, sing too loud or laugh too heartily because he’s out there and he’s hungry. \nAward-winning circus company Nikki & JD are bringing their spectacular outdoor show Fireside to Coronation Park\, and it’s completely free. This is a modern retelling of Beowulf – that ancient epic your English teacher might have mentioned – but forget dusty old tales. This is dark\, comic\, physically dangerous\, and utterly thrilling. \nOver 45 minutes\, world-class performers will combine breathtaking circus skills\, dance\, theatre and live music to bring this legendary story to life. Suitable for all ages\, it features acrobatics that’ll make you gasp\, moments that’ll make you laugh\, and an atmosphere that’ll remind you what it was like to be truly captivated by a story. \n“It was fantastic\, atmospheric\, both tense and funny. The acrobatics were awesome.”\n~ audience comment\n \n \n  \nWhether you’re looking for a brilliant night out with friends\, a unique family experience\, or something cool and quirky\, Fireside delivers. \n“Fantastic entertainment\, very funny\, extremely talented!”\n~ audience comment \nAs darkness descends\, arrive at Coronation Park and settle in (bring a chair if you have one\, or borrow from us) to a world of monsters and heroes. If the weather turns\, we’ll move the whole experience indoors to the Old Cattle Market\, so the show goes on whatever happens. \nThe event is free\, but we’re asking everyone to register so we can plan properly and ensure the best experience for all. Those who register will have priority if we need to move indoors due to weather.
URL:https://lovehelston.co.uk/event/fireside/
LOCATION:Coronation Park\, Porthleven Rd\, Helston\, Cornwall\, TR13 0RA\, United Kingdom
CATEGORIES:Coronation Park Events,Free event
ATTACH;FMTTYPE=image/jpeg:https://lovehelston.co.uk/wp-content/uploads/2025/10/Untitled-design-1-scaled.jpg
END:VEVENT
BEGIN:VEVENT
DTSTART;TZID=Europe/London:20251027T124500
DTEND;TZID=Europe/London:20251027T140000
DTSTAMP:20260425T204216
CREATED:20251021T133044Z
LAST-MODIFIED:20251021T133044Z
UID:10000142-1761569100-1761573600@lovehelston.co.uk
SUMMARY:Yoga for Every'BODY' (Age 6 -18 years) FREE drop-in workshop
DESCRIPTION:Drop-in Yoga Workshop (6+)\nwith Kirsty\n12.45pm-2pm on Monday 27th October\nEveryone and all abilities are welcome to come and try this taster session. It’s time to find out if yoga is your thing? \nIf you have a mat please bring it along. \nNo need to book\, this is a drop in taster session \nWhat do I need to know? \n\nBring a mat if you have one – we do have some that we can lend you.\nAll participants should arrive in comfortable clothes that they can easily stretch in.\nWho is The Basement for?\nThe Basement isn’t just another youth centre – it’s the space you asked for\, designed by you\, built for you. The space is primarily for 13-18 year olds. Your basement. Your rules. Your future starts here.\n\nI need dropping off in a car. Where?\nThe Basement is in Trengrouse Way pay and display car park. \n\n\nDo I have to book?\nNot for this event\, but other events are bookable\, please always check to avoid disappointment. \n\n\nWhat is access like?\nWe have level\, step-free access from the car park into the building as well as accessible toilets. If you have additional access needs please contact us on jonathan@lovehelston.co.uk or drop in. \n\n\nWhere is The Basement?\nWe are in the basement of Helston Gateway (the former Budgens supermarket building) next to The Parade and in Trengrouse Way car park. \n\n\nWhere can I find out more about The Basement?\nOn our website at www.lovehelston.co.uk or by contacting Jonathan at jonathan@lovehelston.co.uk \n\n\nWill you be taking photos and video?\nWe often take photos so let everyone you’re booking tickets for know this. These photos\, films and recordings may be used at any time in print and online for evaluation\, promotion or in connection with other projects. If you would prefer to not be in photos please let staff at The Basement know.
URL:https://lovehelston.co.uk/event/yoga-for-everybody-age-6-18-years-free-drop-in-workshop/
LOCATION:The Basement\, Helston Gateway\, The Parade\, Helston\, Cornwall\, TR13 8RT\, United Kingdom
CATEGORIES:Free event,The Basement
ATTACH;FMTTYPE=image/jpeg:https://lovehelston.co.uk/wp-content/uploads/2025/10/Untitled-design-10-e1761053354806.jpg
END:VEVENT
BEGIN:VEVENT
DTSTART;TZID=Europe/London:20251027T180000
DTEND;TZID=Europe/London:20251027T200000
DTSTAMP:20260425T204216
CREATED:20251014T203026Z
LAST-MODIFIED:20251014T203026Z
UID:10000139-1761588000-1761595200@lovehelston.co.uk
SUMMARY:Drop-in DJ Taster (free)
DESCRIPTION:Amplify DJ Taster Evening (13+)\nwith Natalie from Amplify\n6-9pm on Monday 27th October\nEver wanted to try DJing? Here’s your chance to get hands-on with the decks and learn from the pros. \nJoin Natalie from Amplify for a relaxed drop-in workshop where you can discover what it takes to mix tracks\, create transitions\, and get a crowd moving. Whether you’ve never touched a deck before or you’re already mixing at home\, this session is for you. \nWhat’s Happening: \n\n6:00 pm – 8:00pm: Drop-in DJ workshop with Natalie\nAll abilities welcome – complete beginners to experienced DJs\nShare your favourite tunes and get tips on mixing and technique\nTry out professional equipment in a supportive environment\n8:00pm – 9:00pm: Live DJ set from Amplify pro students\nHear what’s possible and get inspired by students who’ve been through the programme\n\nNo pressure\, no judgement – just come along\, have a go\, share your music taste\, and see if DJing is for you. Then stick around for the live set and see the Amplify students in action. \nDrop in anytime during the workshop (6-8pm) and stay for the live set! \n \nWhat do I need to know? \n\nWho is The Basement for?\nThe Basement isn’t just another youth centre – it’s the space you asked for\, designed by you\, built for you. The space is primarily for 13-18 year olds. Your basement. Your rules. Your future starts here.\n\nI need dropping off in a car. Where?\nThe Basement is in Trengrouse Way pay and display car park. \n\n\nDo I have to book?\nWe have a limited capacity and booking means we can guarantee you a space. You can still turn up on the day and\, if we have room\, you’ll be able to come in. \n\n\nWhat is access like?\nWe have level\, step-free access from the car park into the building as well as accessible toilets. If you have additional access needs please contact us on jonathan@lovehelston.co.uk or drop in. \n\n\nWhere is The Basement?\nWe are in the basement of Helston Gateway (the former Budgens supermarket building) next to The Parade and in Trengrouse Way car park. \n\n\nWhere can I find out more about The Basement?\nOn our website at www.lovehelston.co.uk or by contacting Jonathan at jonathan@lovehelston.co.uk \n\n\nWill you be taking photos and video?\nWe often take photos so let everyone you’re booking tickets for know this. These photos\, films and recordings may be used at any time in print and online for evaluation\, promotion or in connection with other projects. If you would prefer to not be in photos please let staff at The Basement know.
URL:https://lovehelston.co.uk/event/drop-in-dj-taster-free/
LOCATION:The Basement\, Helston Gateway\, The Parade\, Helston\, Cornwall\, TR13 8RT\, United Kingdom
CATEGORIES:Free event,The Basement
ATTACH;FMTTYPE=image/jpeg:https://lovehelston.co.uk/wp-content/uploads/2025/10/Untitled-design-7.jpg
END:VEVENT
BEGIN:VEVENT
DTSTART;TZID=Europe/London:20251028T154500
DTEND;TZID=Europe/London:20251028T170000
DTSTAMP:20260425T204216
CREATED:20251021T133912Z
LAST-MODIFIED:20251021T133912Z
UID:10000143-1761666300-1761670800@lovehelston.co.uk
SUMMARY:Yoga for Young Women (Age 11 -18 years) FREE drop-in workshop
DESCRIPTION:Drop-in Yoga Workshop (11+)\nwith Kirsty\n3.45pm-5pm on Tuesday 28th October\nA workshop designed especially with young women in mind. All abilities are welcome to come and try this taster session. \nIt’s time to find out if yoga is your thing? \nIf you have a mat please bring it along. \nNo need to book\, this is a drop in taster session \nWhat do I need to know? \n\nThis event is for those who identify as female.\nBring a mat if you have one – we do have some that we can lend you.\nAll participants should arrive in comfortable clothes that they can easily stretch in.\nWho is The Basement for?\nThe Basement isn’t just another youth centre – it’s the space you asked for\, designed by you\, built for you. The space is primarily for 13-18 year olds. Your basement. Your rules. Your future starts here.\n\nI need dropping off in a car. Where?\nThe Basement is in Trengrouse Way pay and display car park. \n\n\nDo I have to book?\nNot for this event\, but other events are bookable\, please always check to avoid disappointment. \n\n\nWhat is access like?\nWe have level\, step-free access from the car park into the building as well as accessible toilets. If you have additional access needs please contact us on jonathan@lovehelston.co.uk or drop in. \n\n\nWhere is The Basement?\nWe are in the basement of Helston Gateway (the former Budgens supermarket building) next to The Parade and in Trengrouse Way car park. \n\n\nWhere can I find out more about The Basement?\nOn our website at www.lovehelston.co.uk or by contacting Jonathan at jonathan@lovehelston.co.uk \n\n\nWill you be taking photos and video?\nWe often take photos so let everyone you’re booking tickets for know this. These photos\, films and recordings may be used at any time in print and online for evaluation\, promotion or in connection with other projects. If you would prefer to not be in photos please let staff at The Basement know.
URL:https://lovehelston.co.uk/event/yoga-for-young-women-age-11-18-years-free-drop-in-workshop/
LOCATION:The Basement\, Helston Gateway\, The Parade\, Helston\, Cornwall\, TR13 8RT\, United Kingdom
CATEGORIES:Free event,The Basement
ATTACH;FMTTYPE=image/jpeg:https://lovehelston.co.uk/wp-content/uploads/2025/10/Untitled-design-10-e1761053354806.jpg
END:VEVENT
BEGIN:VEVENT
DTSTART;TZID=Europe/London:20251031T150000
DTEND;TZID=Europe/London:20251031T170000
DTSTAMP:20260425T204216
CREATED:20251014T201918Z
LAST-MODIFIED:20251017T135150Z
UID:10000138-1761922800-1761930000@lovehelston.co.uk
SUMMARY:Drop-in Skate Workshop (free)
DESCRIPTION:Drop-in Skate Workshop (13+)\nwith Coach Frank\n3pm-5pm on Friday 31st October\nReady to improve your skating? Join Coach Frank for a drop-in skate workshop with indoor ramps and expert coaching. \nWhether you’re just getting started or want to nail some new tricks\, this session has you covered. Learn proper technique\, build your confidence\, and progress at your own pace in a supportive environment. \nWhat’s Happening: \nIndoor ramps – skate whatever the weather\nExpert tuition from Coach Frank\nDrop-in format – come and go as you like\nAll skill levels welcome\nGet tips on technique\, safety\, and progressing your skills \nNo need to book ahead – just turn up with your board and helmet\, and Coach Frank will help you take your skating to the next level. Perfect whether you’re finding your feet or ready to push your limits. \nWhat do I need to know? \n\nBring your own board and safety gear if you have it. We’ll provide some if you haven’t got any.\nAll participants should arrive with appropriate footwear – which includes trainers\, gym shoes or plimsolls. Please do not wear sandals (including crocs)\, flip-flops or other open-toed shoes\, or shoes with raised heels or wedges.\nWho is The Basement for?\nThe Basement isn’t just another youth centre – it’s the space you asked for\, designed by you\, built for you. The space is primarily for 13-18 year olds. Your basement. Your rules. Your future starts here.\n\nI need dropping off in a car. Where?\nThe Basement is in Trengrouse Way pay and display car park. \n\n\nDo I have to book?\nWe have a limited capacity and booking means we can guarantee you a space. You can still turn up on the day and\, if we have room\, you’ll be able to come in. \n\n\nWhat is access like?\nWe have level\, step-free access from the car park into the building as well as accessible toilets. If you have additional access needs please contact us on jonathan@lovehelston.co.uk or drop in. \n\n\nWhere is The Basement?\nWe are in the basement of Helston Gateway (the former Budgens supermarket building) next to The Parade and in Trengrouse Way car park. \n\n\nWhere can I find out more about The Basement?\nOn our website at www.lovehelston.co.uk or by contacting Jonathan at jonathan@lovehelston.co.uk \n\n\nWill you be taking photos and video?\nWe often take photos so let everyone you’re booking tickets for know this. These photos\, films and recordings may be used at any time in print and online for evaluation\, promotion or in connection with other projects. If you would prefer to not be in photos please let staff at The Basement know.
URL:https://lovehelston.co.uk/event/drop-in-skate-workshop-free/
LOCATION:The Basement\, Helston Gateway\, The Parade\, Helston\, Cornwall\, TR13 8RT\, United Kingdom
CATEGORIES:Free event,The Basement
ATTACH;FMTTYPE=image/jpeg:https://lovehelston.co.uk/wp-content/uploads/2025/10/Untitled-design-6.jpg
END:VEVENT
END:VCALENDAR