BEGIN:VCALENDAR
VERSION:2.0
PRODID:-//Love Helston | South Kerrier Alliance CIC - ECPv6.9.0//NONSGML v1.0//EN
CALSCALE:GREGORIAN
METHOD:PUBLISH
X-WR-CALNAME:Love Helston | South Kerrier Alliance CIC
X-ORIGINAL-URL:https://lovehelston.co.uk
X-WR-CALDESC:Events for Love Helston | South Kerrier Alliance CIC
REFRESH-INTERVAL;VALUE=DURATION:PT1H
X-Robots-Tag:noindex
X-PUBLISHED-TTL:PT1H
BEGIN:VTIMEZONE
TZID:Europe/London
BEGIN:DAYLIGHT
TZOFFSETFROM:+0000
TZOFFSETTO:+0100
TZNAME:BST
DTSTART:20250330T010000
END:DAYLIGHT
BEGIN:STANDARD
TZOFFSETFROM:+0100
TZOFFSETTO:+0000
TZNAME:GMT
DTSTART:20251026T010000
END:STANDARD
END:VTIMEZONE
BEGIN:VEVENT
DTSTART;TZID=Europe/London:20251207T074500
DTEND;TZID=Europe/London:20251207T084500
DTSTAMP:20260425T181342
CREATED:20251111T190753Z
LAST-MODIFIED:20251111T190753Z
UID:10000207-1765093500-1765097100@lovehelston.co.uk
SUMMARY:FREE Winter Wellness Yoga
DESCRIPTION:Find Your Winter Warmth Through Yoga ❄️🧘‍♀️ \n4 weeks of FREE Yoga on a Sunday morning at The Old Cattle Market  \nAs the winter chill sets in and the days grow shorter\, it’s easy to slip into hibernation mode — curling up under blankets and reaching for comfort food. But what if there were a way to stay warm\, energised\, and uplifted all season long?   Yoga is the answer. \nWinter’s cold and grey days can leave us feeling sluggish or low on motivation\, but yoga offers the perfect antidote. A regular practice helps to boost circulation\, strengthen your immune system\, and lift your mood — keeping both body and mind in balance through the darker months. \nSo instead of slowing down completely this winter\, roll out your mat and join us for some grounding\, heart-warming sessions. You’ll leave feeling recharged\, centred\, and ready to embrace the season with calm energy and vitality. \n✨ Stay warm. Stay well. Stay connected — with yourself and your practice. ✨ \n\nThe series of Yoga sessions  is being funded by South Kerrier Alliance CIC. If you would like to support more free yoga sessions iand other events you can donate via this link Donate Here https://www.paypal.com/donate/…\n\nWinter Wellness Yoga – Everything You Need to Know\n\nWho can take part?We welcome everyone — from total beginners to experienced yogis! Kirsty\, our qualified and experienced instructor\, is great at leading mixed-ability sessions. It’s the perfect chance to try yoga for the first time.  However\, please note: If you’re under the care of a doctor or medical professional\, speak with them before attending. If you’ve been advised not to take part in physical activity\, are pregnant\, or have a medical condition\, illness\, or injury\, please do not take part in Winter Wellness Yoga.  Kirsty cannot offer specific medical advice\, but she ensures plenty of accessible options during the session. Yoga is a physical activity and you participate at your own risk.\nDo I need to book?No booking needed — just turn up! Please arrive on time as important safety info and the warm-up happen at the start. Latecomers won’t be able to join the session.\nAre families welcome?Yes! Children under 18 must be accompanied by a parent or carer\, who should stay nearby at all times. Parents/carers are fully responsible for their children during the session.\nWhat should I bring?A yoga mat (or towel/blanket if you don’t have one).  A limited number of mats will be available to borrow.  Water and anything else to help you feel comfortable.\nWhat should I wear?Anything comfy that you can move and stretch in!\nCancellationsCheck the Old Cattle Market Facebook page — cancellations will be announced at least 1 hour before the session.\nParkingSmall pay & display car park at Coronation Park (proceeds support the park).  Larger car park at Castle Green.  Free parking nearby at Fairground car park.\n\nOther FAQsDogs are not permitted at yoga sessions.Events may be filmed/photographed and used by South Kerrier Alliance CIC or partners for promotion/evaluation. Attendees are responsible for informing their group.
URL:https://lovehelston.co.uk/event/free-winter-wellness-yoga/2025-12-07/
LOCATION:Old Cattle Market\, Porthleven Rd\, Helston\, Cornwall\, TR13 0SR\, United Kingdom
CATEGORIES:Free event,Old Cattle Market Events
ATTACH;FMTTYPE=application/pdf:https://lovehelston.co.uk/wp-content/uploads/2025/11/Untitled-design-4.pdf
END:VEVENT
BEGIN:VEVENT
DTSTART;TZID=Europe/London:20251209T190000
DTEND;TZID=Europe/London:20251209T210000
DTSTAMP:20260425T181342
CREATED:20251203T110819Z
LAST-MODIFIED:20251203T112836Z
UID:10000245-1765306800-1765314000@lovehelston.co.uk
SUMMARY:Drop-in Skate Workshop (FREE)
DESCRIPTION:Drop-in Skate Workshop (13+)\nwith Coach Frank\n7pm-9pm on Tuesday 9 December\nReady to improve your skating? Join Coach Frank for a drop-in skate workshop with indoor ramps and expert coaching. \nWhether you’re just getting started or want to nail some new tricks\, this session has you covered. Learn proper technique\, build your confidence\, and progress at your own pace in a supportive environment. \nWhat’s Happening: \nIndoor ramps – skate whatever the weather\nExpert tuition from Coach Frank 7-8pm\nFree skate time to practice your new skills 8-9pm\nDrop-in format – come and go as you like\nAll skill levels welcome\nGet tips on technique\, safety\, and progressing your skills \nNo need to book ahead – just turn up with your board and helmet\, and Coach Frank will help you take your skating to the next level. Perfect whether you’re finding your feet or ready to push your limits. \nWhat do I need to know? \n\nBring your own board and safety gear if you have it. We’ll provide some if you haven’t got any.\nAll participants should arrive with appropriate footwear – which includes trainers\, gym shoes or plimsolls. Please do not wear sandals (including crocs)\, flip-flops or other open-toed shoes\, or shoes with raised heels or wedges.\nWho is The Basement for?\nThe Basement isn’t just another youth centre – it’s the space you asked for\, designed by you\, built for you. The space is primarily for 13-18 year olds. Your basement. Your rules. Your future starts here.\n\nI need dropping off in a car. Where?\nThe Basement is in Trengrouse Way pay and display car park. \n\n\nDo I have to book?\nWe have a limited capacity and booking means we can guarantee you a space. You can still turn up on the day and\, if we have room\, you’ll be able to come in. \n\n\nWhat is access like?\nWe have level\, step-free access from the car park into the building as well as accessible toilets. If you have additional access needs please contact us on jonathan@lovehelston.co.uk or drop in. \n\n\nWhere is The Basement?\nWe are in the basement of Helston Gateway (the former Budgens supermarket building) next to The Parade and in Trengrouse Way car park. \n\n\nWhere can I find out more about The Basement?\nOn our website at www.lovehelston.co.uk or by contacting Jonathan at jonathan@lovehelston.co.uk \n\n\nWill you be taking photos and video?\nWe often take photos so let everyone you’re booking tickets for know this. These photos\, films and recordings may be used at any time in print and online for evaluation\, promotion or in connection with other projects. If you would prefer to not be in photos please let staff at The Basement know.
URL:https://lovehelston.co.uk/event/drop-in-coachfrank/
LOCATION:The Basement\, Helston Gateway\, The Parade\, Helston\, Cornwall\, TR13 8RT\, United Kingdom
CATEGORIES:Free event,The Basement
ATTACH;FMTTYPE=image/jpeg:https://lovehelston.co.uk/wp-content/uploads/2025/12/Untitled-design-4.jpg
END:VEVENT
BEGIN:VEVENT
DTSTART;TZID=Europe/London:20251214T074500
DTEND;TZID=Europe/London:20251214T084500
DTSTAMP:20260425T181342
CREATED:20251111T190753Z
LAST-MODIFIED:20251111T190753Z
UID:10000208-1765698300-1765701900@lovehelston.co.uk
SUMMARY:FREE Winter Wellness Yoga
DESCRIPTION:Find Your Winter Warmth Through Yoga ❄️🧘‍♀️ \n4 weeks of FREE Yoga on a Sunday morning at The Old Cattle Market  \nAs the winter chill sets in and the days grow shorter\, it’s easy to slip into hibernation mode — curling up under blankets and reaching for comfort food. But what if there were a way to stay warm\, energised\, and uplifted all season long?   Yoga is the answer. \nWinter’s cold and grey days can leave us feeling sluggish or low on motivation\, but yoga offers the perfect antidote. A regular practice helps to boost circulation\, strengthen your immune system\, and lift your mood — keeping both body and mind in balance through the darker months. \nSo instead of slowing down completely this winter\, roll out your mat and join us for some grounding\, heart-warming sessions. You’ll leave feeling recharged\, centred\, and ready to embrace the season with calm energy and vitality. \n✨ Stay warm. Stay well. Stay connected — with yourself and your practice. ✨ \n\nThe series of Yoga sessions  is being funded by South Kerrier Alliance CIC. If you would like to support more free yoga sessions iand other events you can donate via this link Donate Here https://www.paypal.com/donate/…\n\nWinter Wellness Yoga – Everything You Need to Know\n\nWho can take part?We welcome everyone — from total beginners to experienced yogis! Kirsty\, our qualified and experienced instructor\, is great at leading mixed-ability sessions. It’s the perfect chance to try yoga for the first time.  However\, please note: If you’re under the care of a doctor or medical professional\, speak with them before attending. If you’ve been advised not to take part in physical activity\, are pregnant\, or have a medical condition\, illness\, or injury\, please do not take part in Winter Wellness Yoga.  Kirsty cannot offer specific medical advice\, but she ensures plenty of accessible options during the session. Yoga is a physical activity and you participate at your own risk.\nDo I need to book?No booking needed — just turn up! Please arrive on time as important safety info and the warm-up happen at the start. Latecomers won’t be able to join the session.\nAre families welcome?Yes! Children under 18 must be accompanied by a parent or carer\, who should stay nearby at all times. Parents/carers are fully responsible for their children during the session.\nWhat should I bring?A yoga mat (or towel/blanket if you don’t have one).  A limited number of mats will be available to borrow.  Water and anything else to help you feel comfortable.\nWhat should I wear?Anything comfy that you can move and stretch in!\nCancellationsCheck the Old Cattle Market Facebook page — cancellations will be announced at least 1 hour before the session.\nParkingSmall pay & display car park at Coronation Park (proceeds support the park).  Larger car park at Castle Green.  Free parking nearby at Fairground car park.\n\nOther FAQsDogs are not permitted at yoga sessions.Events may be filmed/photographed and used by South Kerrier Alliance CIC or partners for promotion/evaluation. Attendees are responsible for informing their group.
URL:https://lovehelston.co.uk/event/free-winter-wellness-yoga/2025-12-14/
LOCATION:Old Cattle Market\, Porthleven Rd\, Helston\, Cornwall\, TR13 0SR\, United Kingdom
CATEGORIES:Free event,Old Cattle Market Events
ATTACH;FMTTYPE=application/pdf:https://lovehelston.co.uk/wp-content/uploads/2025/11/Untitled-design-4.pdf
END:VEVENT
BEGIN:VEVENT
DTSTART;TZID=Europe/London:20251216T190000
DTEND;TZID=Europe/London:20251216T210000
DTSTAMP:20260425T181342
CREATED:20251203T111845Z
LAST-MODIFIED:20251203T112524Z
UID:10000246-1765911600-1765918800@lovehelston.co.uk
SUMMARY:Drop-in Skate Workshop (FREE)
DESCRIPTION:Drop-in Skate Workshop (13+)\nwith Coach Frank\n7pm-9pm on Tuesday 16 December\nReady to improve your skating? Join Coach Frank for a drop-in skate workshop with indoor ramps and expert coaching. \nWhether you’re just getting started or want to nail some new tricks\, this session has you covered. Learn proper technique\, build your confidence\, and progress at your own pace in a supportive environment. \nWhat’s Happening: \nIndoor ramps – skate whatever the weather\nExpert tuition from Coach Frank 7-8pm\nFree skate time to practice your new skills 8-9pm\nDrop-in format – come and go as you like\nAll skill levels welcome\nGet tips on technique\, safety\, and progressing your skills \nNo need to book ahead – just turn up with your board and helmet\, and Coach Frank will help you take your skating to the next level. Perfect whether you’re finding your feet or ready to push your limits. \nWhat do I need to know? \n\nBring your own board and safety gear if you have it. We’ll provide some if you haven’t got any.\nAll participants should arrive with appropriate footwear – which includes trainers\, gym shoes or plimsolls. Please do not wear sandals (including crocs)\, flip-flops or other open-toed shoes\, or shoes with raised heels or wedges.\nWho is The Basement for?\nThe Basement isn’t just another youth centre – it’s the space you asked for\, designed by you\, built for you. The space is primarily for 13-18 year olds. Your basement. Your rules. Your future starts here.\n\nI need dropping off in a car. Where?\nThe Basement is in Trengrouse Way pay and display car park. \n\n\nDo I have to book?\nWe have a limited capacity and booking means we can guarantee you a space. You can still turn up on the day and\, if we have room\, you’ll be able to come in. \n\n\nWhat is access like?\nWe have level\, step-free access from the car park into the building as well as accessible toilets. If you have additional access needs please contact us on jonathan@lovehelston.co.uk or drop in. \n\n\nWhere is The Basement?\nWe are in the basement of Helston Gateway (the former Budgens supermarket building) next to The Parade and in Trengrouse Way car park. \n\n\nWhere can I find out more about The Basement?\nOn our website at www.lovehelston.co.uk or by contacting Jonathan at jonathan@lovehelston.co.uk \n\n\nWill you be taking photos and video?\nWe often take photos so let everyone you’re booking tickets for know this. These photos\, films and recordings may be used at any time in print and online for evaluation\, promotion or in connection with other projects. If you would prefer to not be in photos please let staff at The Basement know.
URL:https://lovehelston.co.uk/event/drop-in-skate-coachfrank2/
LOCATION:The Basement\, Helston Gateway\, The Parade\, Helston\, Cornwall\, TR13 8RT\, United Kingdom
CATEGORIES:Free event,The Basement
ATTACH;FMTTYPE=image/jpeg:https://lovehelston.co.uk/wp-content/uploads/2025/12/Untitled-design-4.jpg
END:VEVENT
BEGIN:VEVENT
DTSTART;TZID=Europe/London:20251217T160000
DTEND;TZID=Europe/London:20251217T200000
DTSTAMP:20260425T181342
CREATED:20251121T172423Z
LAST-MODIFIED:20251121T172423Z
UID:10000231-1765987200-1766001600@lovehelston.co.uk
SUMMARY:HN Collective - FREE Dance Taster Classes
DESCRIPTION:HN Collective Free Dance Taster Classes\n4:00-8:00pm on Wednesday 17th December\nYears 4-6  4:00pm – 5:00pm\nYears 7-9   5:00-6:00pm\nYears 10-13 6:00pm-7:00pm\nOpen House Dance Class – All Ages 7:00pm-8:00pm\nHN Collective is launching its very first dance session on Wednesday 17th December and to celebrate\, we’re inviting everyone to join a FREE dance workshop.\nThis is the perfect opportunity to come along\, experience the energy\, and see what the classes are all about no pressure\, just fun\, movement\, and music!\n  \nWhat do I need to know? \n\nWho is The Basement for?\nThe Basement isn’t just another youth centre – it’s the space you asked for\, designed by you\, built for you. The space is primarily for 13-18 year olds. Your basement. Your rules. Your future starts here.\nI need dropping off in a car. Where?\nThe Basement is in Trengrouse Way pay and display car park.\nDo I have to book?\nHn Collective are running these free sessions as a drop-in so no need to book.\nWhat is access like?\nWe have level\, step-free access from the car park into the building as well as accessible toilets. If you have additional access needs please contact us on jonathan@lovehelston.co.uk or drop in.\nWhere is The Basement?\nWe are in the basement of Helston Gateway (the former Budgens supermarket building) next to The Parade and in Trengrouse Way car park.\nWhere can I find out more about The Basement?\nOn our website at www.lovehelston.co.uk or by contacting Jonathan at jonathan@lovehelston.co.uk\nWill you be taking photos and video?\nWe often take photos so let everyone you’re booking tickets for know this. These photos\, films and recordings may be used at any time in print and online for evaluation\, promotion or in connection with other projects. If you would prefer to not be in photos please let staff at The Basement know.
URL:https://lovehelston.co.uk/event/hn-collective-free-dance-taster-classes/
LOCATION:The Basement\, Helston Gateway\, The Parade\, Helston\, Cornwall\, TR13 8RT\, United Kingdom
CATEGORIES:Free event,The Basement
ATTACH;FMTTYPE=application/pdf:https://lovehelston.co.uk/wp-content/uploads/2025/11/tr.pdf
END:VEVENT
BEGIN:VEVENT
DTSTART;TZID=Europe/London:20251223T190000
DTEND;TZID=Europe/London:20251223T210000
DTSTAMP:20260425T181342
CREATED:20251218T132319Z
LAST-MODIFIED:20251218T132319Z
UID:10000248-1766516400-1766523600@lovehelston.co.uk
SUMMARY:Drop-in Skate Workshop (FREE)
DESCRIPTION:Drop-in Skate Workshop (13+)\nwith Coach Frank\n7pm-9pm on Tuesday 23 December\nReady to improve your skating? Join Coach Frank for a drop-in skate workshop with indoor ramps and expert coaching. \nWhether you’re just getting started or want to nail some new tricks\, this session has you covered. Learn proper technique\, build your confidence\, and progress at your own pace in a supportive environment. \nWhat’s Happening: \nIndoor ramps – skate whatever the weather\nExpert tuition from Coach Frank 7-8pm\nFree skate time to practice your new skills 8-9pm\nDrop-in format – come and go as you like\nAll skill levels welcome\nGet tips on technique\, safety\, and progressing your skills \nNo need to book ahead – just turn up with your board and helmet\, and Coach Frank will help you take your skating to the next level. Perfect whether you’re finding your feet or ready to push your limits. \nWhat do I need to know? \n\nBring your own board and safety gear if you have it. We’ll provide some if you haven’t got any.\nAll participants should arrive with appropriate footwear – which includes trainers\, gym shoes or plimsolls. Please do not wear sandals (including crocs)\, flip-flops or other open-toed shoes\, or shoes with raised heels or wedges.\nWho is The Basement for?\nThe Basement isn’t just another youth centre – it’s the space you asked for\, designed by you\, built for you. The space is primarily for 13-18 year olds. Your basement. Your rules. Your future starts here.\n\nI need dropping off in a car. Where?\nThe Basement is in Trengrouse Way pay and display car park. \n\n\nDo I have to book?\nWe have a limited capacity and booking means we can guarantee you a space. You can still turn up on the day and\, if we have room\, you’ll be able to come in. \n\n\nWhat is access like?\nWe have level\, step-free access from the car park into the building as well as accessible toilets. If you have additional access needs please contact us on jonathan@lovehelston.co.uk or drop in. \n\n\nWhere is The Basement?\nWe are in the basement of Helston Gateway (the former Budgens supermarket building) next to The Parade and in Trengrouse Way car park. \n\n\nWhere can I find out more about The Basement?\nOn our website at www.lovehelston.co.uk or by contacting Jonathan at jonathan@lovehelston.co.uk \n\n\nWill you be taking photos and video?\nWe often take photos so let everyone you’re booking tickets for know this. These photos\, films and recordings may be used at any time in print and online for evaluation\, promotion or in connection with other projects. If you would prefer to not be in photos please let staff at The Basement know.
URL:https://lovehelston.co.uk/event/drop-in-skate-workshop-free-3/
LOCATION:The Basement\, Helston Gateway\, The Parade\, Helston\, Cornwall\, TR13 8RT\, United Kingdom
CATEGORIES:Free event,The Basement
ATTACH;FMTTYPE=image/jpeg:https://lovehelston.co.uk/wp-content/uploads/2025/12/Untitled-design-4.jpg
END:VEVENT
BEGIN:VEVENT
DTSTART;TZID=Europe/London:20251227T180000
DTEND;TZID=Europe/London:20251227T200000
DTSTAMP:20260425T181342
CREATED:20251205T144433Z
LAST-MODIFIED:20251227T124818Z
UID:10000247-1766858400-1766865600@lovehelston.co.uk
SUMMARY:Drop-in DJ Taster (POSTPONED)
DESCRIPTION:Amplify DJ Taster Evening (13+)\nwith Natalie from Amplify\nPOSTPONED\n6-8pm on Saturday 27th December\nEver wanted to try DJing? Here’s your chance to get hands-on with the decks and learn from the pros. \nJoin Natalie from Amplify for a relaxed drop-in workshop where you can discover what it takes to mix tracks\, create transitions\, and get a crowd moving. Whether you’ve never touched a deck before or you’re already mixing at home\, this session is for you. \nFollowing the huge success of October’s half-term workshop\, this is an opportunity to experience the workshops again and register your interest to join a regular programme in the new year. \nWhat’s Happening: \n\n6:00 pm – 8:00pm: Drop-in DJ workshop with Natalie\nAll abilities welcome – complete beginners to experienced DJs\nShare your favourite tunes and get tips on mixing and technique\nTry out professional equipment in a supportive environment\nHear what’s possible and get inspired by meeting students who’ve been through the programme\n\nNo pressure\, no judgement – just come along\, have a go\, share your music taste\, and see if DJing is for you. \nDrop in anytime during the workshop (6-8pm) \nThis workshop is FREE \n \nWhat do I need to know? \n\nWho is The Basement for?\nThe Basement isn’t just another youth centre – it’s the space you asked for\, designed by you\, built for you. The space is primarily for 13-18 year olds. Your basement. Your rules. Your future starts here.\n\nI need dropping off in a car. Where?\nThe Basement is in Trengrouse Way pay and display car park. \n\n\nDo I have to book?\nWe have a limited capacity and booking means we can guarantee you a space. You can still turn up on the day and\, if we have room\, you’ll be able to come in. \n\n\nWhat is access like?\nWe have level\, step-free access from the car park into the building as well as accessible toilets. If you have additional access needs please contact us on jonathan@lovehelston.co.uk or drop in. \n\n\nWhere is The Basement?\nWe are in the basement of Helston Gateway (the former Budgens supermarket building) next to The Parade and in Trengrouse Way car park. \n\n\nWhere can I find out more about The Basement?\nOn our website at www.lovehelston.co.uk or by contacting Jonathan at jonathan@lovehelston.co.uk \n\n\nWill you be taking photos and video?\nWe often take photos so let everyone you’re booking tickets for know this. These photos\, films and recordings may be used at any time in print and online for evaluation\, promotion or in connection with other projects. If you would prefer to not be in photos please let staff at The Basement know.
URL:https://lovehelston.co.uk/event/drop-in-dj-taster-free-dec/
LOCATION:The Basement\, Helston Gateway\, The Parade\, Helston\, Cornwall\, TR13 8RT\, United Kingdom
CATEGORIES:Free event,The Basement
ATTACH;FMTTYPE=image/jpeg:https://lovehelston.co.uk/wp-content/uploads/2025/12/Untitled-design-5.jpg
END:VEVENT
END:VCALENDAR