BEGIN:VCALENDAR
VERSION:2.0
PRODID:-//Love Helston | South Kerrier Alliance CIC - ECPv6.9.0//NONSGML v1.0//EN
CALSCALE:GREGORIAN
METHOD:PUBLISH
X-ORIGINAL-URL:https://lovehelston.co.uk
X-WR-CALDESC:Events for Love Helston | South Kerrier Alliance CIC
REFRESH-INTERVAL;VALUE=DURATION:PT1H
X-Robots-Tag:noindex
X-PUBLISHED-TTL:PT1H
BEGIN:VTIMEZONE
TZID:Europe/London
BEGIN:DAYLIGHT
TZOFFSETFROM:+0000
TZOFFSETTO:+0100
TZNAME:BST
DTSTART:20260329T010000
END:DAYLIGHT
BEGIN:STANDARD
TZOFFSETFROM:+0100
TZOFFSETTO:+0000
TZNAME:GMT
DTSTART:20261025T010000
END:STANDARD
END:VTIMEZONE
BEGIN:VEVENT
DTSTART;TZID=Europe/London:20260606T143000
DTEND;TZID=Europe/London:20260606T150000
DTSTAMP:20260425T153719
CREATED:20260316T210718Z
LAST-MODIFIED:20260318T101708Z
UID:10000504-1780756200-1780758000@lovehelston.co.uk
SUMMARY:Hello Beach
DESCRIPTION:Hello Beach\nJasmine Cole Productions\nSaturday 6th June | 2.30pm\nFREE EVENT\nSay hello to the beach! This magical interactive show from Jasmine Cole Productions is specially designed for babies and toddlers aged 0–2 years. Using puppetry\, singing and sensory play\, Hello Beach creates a wonderfully calm and captivating experience for the very youngest audience members. \nFrom the same Cornwall-based company behind the acclaimed Hello Birds\, this gentle sensory show uses sound\, colour\, texture and small puppets to bring the seaside to life. Little ones can explore\, touch\, listen and join in – a beautiful first introduction to live performance. \nPerfect for babies\, toddlers and their grown-ups. Just turn up and get ready to say hello to the beach! \nSupport free events at Coronation Park \nThis year\, over 60% of our events at Coronation Park are completely free. We do this because we believe that everyone in Helston and on The Lizard deserves access to brilliant events — regardless of what’s in their pocket. The South Kerrier Alliance CIC is a not-for-profit organisation and we don’t receive any regular public funding. Every free event we put on is only possible because of the support of people like you. If days like this matter to you and your community\, please consider making a donation here. \nEvent-Specific Information \n\nDesigned for children aged 0–2 years and their grown-ups.\nThis is a free event. No booking required — just turn up!\nThe show is gentle and sensory-friendly.\nApproximate running time: 30 minutes.\nWe kindly ask that the ratio between adults and infants is 1:1.\n\n\nWhat do I need to know? \n\nThis open-air event takes place in Events Square\, directly outside Lakeside Cafe at Coronation Park\, Helston\, TR13 0RA.\nLakeside Cafe will be open serving hot and cold drinks\, ice creams\, cakes and a range of family-friendly meals.\nOutdoor events will only be cancelled in extreme weather conditions\, so please dress for the Cornish weather and bring a coat.\nThere is a small pay and display car park at Coronation Park — all proceeds support the running of the park. There is a larger pay and display car park at Castle Green. Free parking is available at the nearby Fairground car park.\nThere is level access to Coronation Park and Events Square. If you have any additional access needs that you’d like to discuss with us\, please email Guy at guy@lovehelston.co.uk.\nThere are accessible toilets at the rear of Lakeside Cafe.\nEvents may be filmed or photographed and the material may be used by the South Kerrier Alliance CIC and its partner companies/organisations for evaluation\, promotion or other projects. Please make sure everyone in your party is aware of this.
URL:https://lovehelston.co.uk/event/hello-beach/
LOCATION:Coronation Park\, Porthleven Rd\, Helston\, Cornwall\, TR13 0RA\, United Kingdom
CATEGORIES:Coronation Park Events,Free event
ATTACH;FMTTYPE=image/png:https://lovehelston.co.uk/wp-content/uploads/2026/03/Hello-Beach.png
END:VEVENT
BEGIN:VEVENT
DTSTART;TZID=Europe/London:20260613T143000
DTEND;TZID=Europe/London:20260613T153000
DTSTAMP:20260425T153719
CREATED:20260316T211954Z
LAST-MODIFIED:20260318T101646Z
UID:10000506-1781361000-1781364600@lovehelston.co.uk
SUMMARY:Squashbox: Curious Creatures
DESCRIPTION:Squashbox: Curious Creatures\nSupported by Lakeside Cafe\nSaturday 13th June | 2.30pm\nFREE EVENT\nWelcome to the Curious Creatures wildlife park! World-renowned explorer Jeremiah Johnson has handed the running of his animal collection over to his inexperienced nephew Craig… and things don’t quite go as planned. \nExpect performing fleas\, skateboarding snails\, gymnastic gerbils\, irritable alligators\, over-excited elephants\, and a very intelligent orang-utan – all brought to life through Craig Johnson’s brilliant puppetry\, storytelling\, comedy and live music. You’ll learn amazing facts about how animals evolved and how their adaptations help them survive in the wild. After all\, we’re all related if you go back far enough! \nSquashbox Theatre’s shows are a much-loved fixture of the Coronation Park summer programme. A former member of Cornwall’s renowned Kneehigh Theatre\, Craig combines natural history\, slapstick and a gently subversive sense of humour that delights adults just as much as children. Don’t miss one of Cornwall’s finest one-man puppet shows! \nSupport free events at Coronation Park \nThis year\, over 60% of our events at Coronation Park are completely free. We do this because we believe that everyone in Helston and on The Lizard deserves access to brilliant events — regardless of what’s in their pocket. The South Kerrier Alliance CIC is a not-for-profit organisation and we don’t receive any regular public funding. Every free event we put on is only possible because of the support of people like you. If days like this matter to you and your community\, please consider making a donation here. \nEvent-Specific Information \n\nSuitable for children aged 5+ and their families.\nBring your own chairs and/or blankets.\nApproximate running time: 50 minutes.\nThis is a free event. No booking required — just turn up!\n\nWhat do I need to know? \n\nThis open-air event takes place in Events Square\, directly outside Lakeside Cafe at Coronation Park\, Helston\, TR13 0RA.\nPlease bring your own chairs and/or blankets. Seating is not provided.\nLakeside Cafe will be open serving hot and cold drinks\, ice creams\, cakes and a range of family-friendly meals.\nOutdoor events will only be cancelled in extreme weather conditions\, so please dress for the Cornish weather and bring a coat.\nThere is a small pay and display car park at Coronation Park — all proceeds support the running of the park. There is a larger pay and display car park at Castle Green. Free parking is available at the nearby Fairgrond car park.\nThere is level access to Coronation Park and Events Square. If you have any additional access needs that you’d like to discuss with us\, please email Guy at guy@lovehelston.co.uk.\nThere are accessible toilets at the rear of Lakeside Cafe.\nEvents may be filmed or photographed and the material may be used by the South Kerrier Alliance CIC and its partner companies/organisations for evaluation\, promotion or other projects. Please make sure everyone in your party is aware of this.
URL:https://lovehelston.co.uk/event/squashbox-curious-creatures/
LOCATION:Coronation Park\, Porthleven Rd\, Helston\, Cornwall\, TR13 0RA\, United Kingdom
CATEGORIES:Coronation Park Events,Free event
ATTACH;FMTTYPE=image/png:https://lovehelston.co.uk/wp-content/uploads/2026/03/Sing-Choir-1.png
END:VEVENT
BEGIN:VEVENT
DTSTART;TZID=Europe/London:20260613T180000
DTEND;TZID=Europe/London:20260613T200000
DTSTAMP:20260425T153719
CREATED:20260316T202909Z
LAST-MODIFIED:20260316T202909Z
UID:10000499-1781373600-1781380800@lovehelston.co.uk
SUMMARY:Your Story\, Your Art - Exhibition
DESCRIPTION:Final Exhibition\nOut of The Box Arts presents the work by the young people attending ‘Your Story\, Your Art’\n6pm-8pm  Saturday 13 June\nMore details coming soon… \n\n\n\nWhat do I need to know? \n\nWho is The Basement for?\nThe Basement isn’t just another youth centre – it’s the space you asked for\, designed by you\, built for you. The space is primarily for 13-18 year olds. Your basement. Your rules. Your future starts here.\n\nI need dropping off in a car. Where?\nThe Basement is in Trengrouse Way pay and display car park. \n\n\nDo I have to book?\nWe have a limited capacity and booking means we can guarantee you a space. You can still turn up on the day and\, if we have room\, you’ll be able to come in. \n\n\nWhat is access like?\nWe have level\, step-free access from the car park into the building as well as accessible toilets. If you have additional access needs please contact us on jonathan@lovehelston.co.uk or drop in. \n\n\nWhere is The Basement?\nWe are in the basement of Helston Gateway (the former Budgens supermarket building) next to The Parade and in Trengrouse Way car park. \n\n\nWhere can I find out more about The Basement?\nOn our website at www.lovehelston.co.uk or by contacting Jonathan at jonathan@lovehelston.co.uk \n\n\nWill you be taking photos and video?\nWe often take photos so let everyone you’re booking tickets for know this. These photos\, films and recordings may be used at any time in print and online for evaluation\, promotion or in connection with other projects. If you would prefer to not be in photos please let staff at The Basement know.
URL:https://lovehelston.co.uk/event/your-story-your-art-exhibition/
LOCATION:The Basement\, Helston Gateway\, The Parade\, Helston\, Cornwall\, TR13 8RT\, United Kingdom
CATEGORIES:Free event,The Basement
ATTACH;FMTTYPE=image/png:https://lovehelston.co.uk/wp-content/uploads/2026/03/Untitled-design-34.png
END:VEVENT
BEGIN:VEVENT
DTSTART;TZID=Europe/London:20260620T120000
DTEND;TZID=Europe/London:20260620T160000
DTSTAMP:20260425T153719
CREATED:20260316T213105Z
LAST-MODIFIED:20260316T213105Z
UID:10000507-1781956800-1781971200@lovehelston.co.uk
SUMMARY:Helston Picnic Pride
DESCRIPTION:Helston Picnic Pride\nHelston Town Council in partnership with South Kerrier Alliance\nSaturday 20th June | from 12pm\nFREE EVENT\nHelston Picnic Pride is back for 2026! Organised by Helston Town Council\, this free afternoon at Coronation Park celebrates our local LGBTQIA+ community with live music\, free crafting\, local acts and support groups. \nEveryone is invited. \nThis is Helston Town Council’s annual celebration of pride\, community and togetherness – a day for everyone to come together and show that Helston is a place where everyone is welcome. \nBring a picnic\, grab a coffee from Lakeside Cafe\, and enjoy an afternoon of music\, creativity and connection by the lake. \nWhether you’re part of the LGBTQIA+ community\, an ally\, or just looking for a lovely afternoon in the park with your family\, Helston Picnic Pride is for you. \nEvent-Specific Information \n\nSuitable for all ages. Everyone is welcome.\nThis is a free event organised by Helston Town Council. No booking required — just turn up!\nFree crafting activities available.\nSupport groups and community organisations will be present.\n\n\n\n\n\nWhat do I need to know? \n\nThis open-air event takes place in Events Square\, directly outside Lakeside Cafe at Coronation Park\, Helston\, TR13 0RA.\nPlease bring your own chairs and/or blankets. Seating is not provided.\nLakeside Cafe will be open serving hot and cold drinks\, ice creams\, cakes and a range of family-friendly meals.\nOutdoor events will only be cancelled in extreme weather conditions\, so please dress for the Cornish weather and bring a coat.\nThere is a small pay and display car park at Coronation Park — all proceeds support the running of the park. There is a larger pay and display car park at Castle Green. Free parking is available at the nearby Fairground car park.\nThere is level access to Coronation Park and Events Square. If you have any additional access needs that you’d like to discuss with us\, please email Guy at guy@lovehelston.co.uk.\nThere are accessible toilets at the rear of Lakeside Cafe.\nEvents may be filmed or photographed and the material may be used by the South Kerrier Alliance CIC and its partner companies/organisations for evaluation\, promotion or other projects. Please make sure everyone in your party is aware of this.
URL:https://lovehelston.co.uk/event/helston-picnic-pride/
LOCATION:Coronation Park\, Porthleven Rd\, Helston\, Cornwall\, TR13 0RA\, United Kingdom
CATEGORIES:Coronation Park Events,Free event
ATTACH;FMTTYPE=image/png:https://lovehelston.co.uk/wp-content/uploads/2026/03/Pride.png
END:VEVENT
END:VCALENDAR