BEGIN:VCALENDAR
VERSION:2.0
PRODID:-//Love Helston | South Kerrier Alliance CIC - ECPv6.9.0//NONSGML v1.0//EN
CALSCALE:GREGORIAN
METHOD:PUBLISH
X-WR-CALNAME:Love Helston | South Kerrier Alliance CIC
X-ORIGINAL-URL:https://lovehelston.co.uk
X-WR-CALDESC:Events for Love Helston | South Kerrier Alliance CIC
REFRESH-INTERVAL;VALUE=DURATION:PT1H
X-Robots-Tag:noindex
X-PUBLISHED-TTL:PT1H
BEGIN:VTIMEZONE
TZID:Europe/London
BEGIN:DAYLIGHT
TZOFFSETFROM:+0000
TZOFFSETTO:+0100
TZNAME:BST
DTSTART:20250330T010000
END:DAYLIGHT
BEGIN:STANDARD
TZOFFSETFROM:+0100
TZOFFSETTO:+0000
TZNAME:GMT
DTSTART:20251026T010000
END:STANDARD
END:VTIMEZONE
BEGIN:VEVENT
DTSTART;TZID=Europe/London:20250628T110000
DTEND;TZID=Europe/London:20250628T140000
DTSTAMP:20260426T025018
CREATED:20250308T160719Z
LAST-MODIFIED:20250326T134834Z
UID:10000017-1751108400-1751119200@lovehelston.co.uk
SUMMARY:Helston Pride Picnic: 2025
DESCRIPTION:Helston Pride Picnic\nOrganised by Helston Town Council and the South Kerrier Alliance CIC\nSaturday 28th June 11am-2pm\nFREE EVENT\nLive music\, DJs\, open-mic plus a wide range of mental health support groups. Everyone is invited. \nWhat do I need to know? \n\nLakeside Cafe will be open\, serving a range of hot and cold drinks\, snacks and meals.\nThis open-air event takes place in Events Square\, directly outside Lakeside Cafe at Coronation Park\, Helston\, TR13 0RA.\nOutdoor events will only be cancelled in extreme weather conditions.\nThere is a small pay and display car park at Coronation Park\, all proceeds from this car park supports the running of Coronation Park.   There is a larger car park at Castle Green. Free parking is available at the nearby Fairground car park.\nThere is level access to Coronation Park and Events Square. If you have any additional access needs that you’d like to discuss with us please email Guy on guy@theoldcattlemarket.co.uk.\nThere are accessible toilets at the rear of Lakeside Cafe.\nEvents may be filmed or photographed and the material may be used by the South Kerrier Alliance CIC and it’s partner companies/organisations at any time for evaluation\, promotion or other projects. Please be aware that it is the ticket buyer’s responsibility to inform members of their party that this will be happening.
URL:https://lovehelston.co.uk/event/helston-pride-picnic-2025/
LOCATION:Coronation Park\, Porthleven Rd\, Helston\, Cornwall\, TR13 0RA\, United Kingdom
CATEGORIES:Coronation Park Events,Free event
ATTACH;FMTTYPE=image/jpeg:https://lovehelston.co.uk/wp-content/uploads/2025/03/Untitled-7.jpeg
END:VEVENT
END:VCALENDAR