BEGIN:VCALENDAR
VERSION:2.0
PRODID:-//Love Helston | South Kerrier Alliance CIC - ECPv6.9.0//NONSGML v1.0//EN
CALSCALE:GREGORIAN
METHOD:PUBLISH
X-ORIGINAL-URL:https://lovehelston.co.uk
X-WR-CALDESC:Events for Love Helston | South Kerrier Alliance CIC
REFRESH-INTERVAL;VALUE=DURATION:PT1H
X-Robots-Tag:noindex
X-PUBLISHED-TTL:PT1H
BEGIN:VTIMEZONE
TZID:Europe/London
BEGIN:DAYLIGHT
TZOFFSETFROM:+0000
TZOFFSETTO:+0100
TZNAME:BST
DTSTART:20250330T010000
END:DAYLIGHT
BEGIN:STANDARD
TZOFFSETFROM:+0100
TZOFFSETTO:+0000
TZNAME:GMT
DTSTART:20251026T010000
END:STANDARD
END:VTIMEZONE
BEGIN:VEVENT
DTSTART;TZID=Europe/London:20251023T190000
DTEND;TZID=Europe/London:20251023T190000
DTSTAMP:20260425T215421
CREATED:20251002T112208Z
LAST-MODIFIED:20251023T094020Z
UID:10000132-1761246000-1761246000@lovehelston.co.uk
SUMMARY:Fireside (venue change)
DESCRIPTION:Fireside\nby Nikki & JD and in collaboration with Lost Dog\npresented in Helston by Trevow Helston\, South Kerrier Alliance CIC & Carn to Cove\nwith support from Helston Town Council\nTHIS EVENT WILL NOW TAKE PLACE INDOORS AT HELSTON COMMUNITY COLLEGE (NORTH SITE)\nGather around the fire and let us remind you of what it was to be afraid of the dark. Don’t build the fire too high\, sing too loud or laugh too heartily because he’s out there and he’s hungry. \nAward-winning circus company Nikki & JD are bringing their spectacular outdoor show Fireside to Coronation Park\, and it’s completely free. This is a modern retelling of Beowulf – that ancient epic your English teacher might have mentioned – but forget dusty old tales. This is dark\, comic\, physically dangerous\, and utterly thrilling. \nOver 45 minutes\, world-class performers will combine breathtaking circus skills\, dance\, theatre and live music to bring this legendary story to life. Suitable for all ages\, it features acrobatics that’ll make you gasp\, moments that’ll make you laugh\, and an atmosphere that’ll remind you what it was like to be truly captivated by a story. \n“It was fantastic\, atmospheric\, both tense and funny. The acrobatics were awesome.”\n~ audience comment\n \n \n  \nWhether you’re looking for a brilliant night out with friends\, a unique family experience\, or something cool and quirky\, Fireside delivers. \n“Fantastic entertainment\, very funny\, extremely talented!”\n~ audience comment \nAs darkness descends\, arrive at Coronation Park and settle in (bring a chair if you have one\, or borrow from us) to a world of monsters and heroes. If the weather turns\, we’ll move the whole experience indoors to the Old Cattle Market\, so the show goes on whatever happens. \nThe event is free\, but we’re asking everyone to register so we can plan properly and ensure the best experience for all. Those who register will have priority if we need to move indoors due to weather.
URL:https://lovehelston.co.uk/event/fireside/
LOCATION:Coronation Park\, Porthleven Rd\, Helston\, Cornwall\, TR13 0RA\, United Kingdom
CATEGORIES:Coronation Park Events,Free event
ATTACH;FMTTYPE=image/jpeg:https://lovehelston.co.uk/wp-content/uploads/2025/10/Untitled-design-1-scaled.jpg
END:VEVENT
END:VCALENDAR