BEGIN:VCALENDAR
VERSION:2.0
PRODID:-//Love Helston | South Kerrier Alliance CIC - ECPv6.9.0//NONSGML v1.0//EN
CALSCALE:GREGORIAN
METHOD:PUBLISH
X-WR-CALNAME:Love Helston | South Kerrier Alliance CIC
X-ORIGINAL-URL:https://lovehelston.co.uk
X-WR-CALDESC:Events for Love Helston | South Kerrier Alliance CIC
REFRESH-INTERVAL;VALUE=DURATION:PT1H
X-Robots-Tag:noindex
X-PUBLISHED-TTL:PT1H
BEGIN:VTIMEZONE
TZID:Europe/London
BEGIN:DAYLIGHT
TZOFFSETFROM:+0000
TZOFFSETTO:+0100
TZNAME:BST
DTSTART:20250330T010000
END:DAYLIGHT
BEGIN:STANDARD
TZOFFSETFROM:+0100
TZOFFSETTO:+0000
TZNAME:GMT
DTSTART:20251026T010000
END:STANDARD
END:VTIMEZONE
BEGIN:VEVENT
DTSTART;TZID=Europe/London:20251123T074500
DTEND;TZID=Europe/London:20251123T084500
DTSTAMP:20260425T204339
CREATED:20251111T190753Z
LAST-MODIFIED:20251111T190753Z
UID:10000206-1763883900-1763887500@lovehelston.co.uk
SUMMARY:FREE Winter Wellness Yoga
DESCRIPTION:Find Your Winter Warmth Through Yoga ❄️🧘‍♀️ \n4 weeks of FREE Yoga on a Sunday morning at The Old Cattle Market  \nAs the winter chill sets in and the days grow shorter\, it’s easy to slip into hibernation mode — curling up under blankets and reaching for comfort food. But what if there were a way to stay warm\, energised\, and uplifted all season long?   Yoga is the answer. \nWinter’s cold and grey days can leave us feeling sluggish or low on motivation\, but yoga offers the perfect antidote. A regular practice helps to boost circulation\, strengthen your immune system\, and lift your mood — keeping both body and mind in balance through the darker months. \nSo instead of slowing down completely this winter\, roll out your mat and join us for some grounding\, heart-warming sessions. You’ll leave feeling recharged\, centred\, and ready to embrace the season with calm energy and vitality. \n✨ Stay warm. Stay well. Stay connected — with yourself and your practice. ✨ \n\nThe series of Yoga sessions  is being funded by South Kerrier Alliance CIC. If you would like to support more free yoga sessions iand other events you can donate via this link Donate Here https://www.paypal.com/donate/…\n\nWinter Wellness Yoga – Everything You Need to Know\n\nWho can take part?We welcome everyone — from total beginners to experienced yogis! Kirsty\, our qualified and experienced instructor\, is great at leading mixed-ability sessions. It’s the perfect chance to try yoga for the first time.  However\, please note: If you’re under the care of a doctor or medical professional\, speak with them before attending. If you’ve been advised not to take part in physical activity\, are pregnant\, or have a medical condition\, illness\, or injury\, please do not take part in Winter Wellness Yoga.  Kirsty cannot offer specific medical advice\, but she ensures plenty of accessible options during the session. Yoga is a physical activity and you participate at your own risk.\nDo I need to book?No booking needed — just turn up! Please arrive on time as important safety info and the warm-up happen at the start. Latecomers won’t be able to join the session.\nAre families welcome?Yes! Children under 18 must be accompanied by a parent or carer\, who should stay nearby at all times. Parents/carers are fully responsible for their children during the session.\nWhat should I bring?A yoga mat (or towel/blanket if you don’t have one).  A limited number of mats will be available to borrow.  Water and anything else to help you feel comfortable.\nWhat should I wear?Anything comfy that you can move and stretch in!\nCancellationsCheck the Old Cattle Market Facebook page — cancellations will be announced at least 1 hour before the session.\nParkingSmall pay & display car park at Coronation Park (proceeds support the park).  Larger car park at Castle Green.  Free parking nearby at Fairground car park.\n\nOther FAQsDogs are not permitted at yoga sessions.Events may be filmed/photographed and used by South Kerrier Alliance CIC or partners for promotion/evaluation. Attendees are responsible for informing their group.
URL:https://lovehelston.co.uk/event/free-winter-wellness-yoga/2025-11-23/
LOCATION:Old Cattle Market\, Porthleven Rd\, Helston\, Cornwall\, TR13 0SR\, United Kingdom
CATEGORIES:Free event,Old Cattle Market Events
ATTACH;FMTTYPE=application/pdf:https://lovehelston.co.uk/wp-content/uploads/2025/11/Untitled-design-4.pdf
END:VEVENT
END:VCALENDAR