BEGIN:VCALENDAR
VERSION:2.0
PRODID:-//Love Helston | South Kerrier Alliance CIC - ECPv6.9.0//NONSGML v1.0//EN
CALSCALE:GREGORIAN
METHOD:PUBLISH
X-WR-CALNAME:Love Helston | South Kerrier Alliance CIC
X-ORIGINAL-URL:https://lovehelston.co.uk
X-WR-CALDESC:Events for Love Helston | South Kerrier Alliance CIC
REFRESH-INTERVAL;VALUE=DURATION:PT1H
X-Robots-Tag:noindex
X-PUBLISHED-TTL:PT1H
BEGIN:VTIMEZONE
TZID:Europe/London
BEGIN:DAYLIGHT
TZOFFSETFROM:+0000
TZOFFSETTO:+0100
TZNAME:BST
DTSTART:20260329T010000
END:DAYLIGHT
BEGIN:STANDARD
TZOFFSETFROM:+0100
TZOFFSETTO:+0000
TZNAME:GMT
DTSTART:20261025T010000
END:STANDARD
END:VTIMEZONE
BEGIN:VEVENT
DTSTART;TZID=Europe/London:20260403T120000
DTEND;TZID=Europe/London:20260403T140000
DTSTAMP:20260425T142910
CREATED:20260308T171805Z
LAST-MODIFIED:20260331T094549Z
UID:10000435-1775217600-1775224800@lovehelston.co.uk
SUMMARY:Design a "stained glass" window for Helston
DESCRIPTION:Become part of Helston’s History\nMulti-media art workshop (11+)\n12noon-2pm Good Friday (FREE)\nJoin artist Melanie Young and contribute to the design of a new “stained glass” window for the Museum of Cornish Life. \nUsing images from the museum as inspiration create your own drawings which will be transferred onto vinyl. This modern technique allows you draw anything you like\, to any scale and once printed instantly apply it\, creating a beautiful “stained glass” effect. The designs from this and other community workshops will be applied to one of the windows in the museum creating a fantastic visual picture for everyone to see. \nNo experience necessary\, everybody welcome. \nWhat do I need to know? \n\nWho is The Basement for?\nThe Basement isn’t just another youth centre – it’s the space you asked for\, designed by you\, built for you. The space is primarily for 13-18 year olds. Your basement. Your rules. Your future starts here.\n\nI need dropping off in a car. Where?\nThe Basement is in Trengrouse Way pay and display car park. \n\n\nDo I have to book?\nWe have a limited capacity and booking means we can guarantee you a space. You can still turn up on the day and\, if we have room\, you’ll be able to come in. \n\n\nWhat is access like?\nWe have level\, step-free access from the car park into the building as well as accessible toilets. If you have additional access needs please contact us on jonathan@lovehelston.co.uk or drop in. \n\n\nWhere is The Basement?\nWe are in the basement of Helston Gateway (the former Budgens supermarket building) next to The Parade and in Trengrouse Way car park. \n\n\nWhere can I find out more about The Basement?\nOn our website at www.lovehelston.co.uk or by contacting Jonathan at jonathan@lovehelston.co.uk \n\n\nWill you be taking photos and video?\nWe often take photos so let everyone you’re booking tickets for know this. These photos\, films and recordings may be used at any time in print and online for evaluation\, promotion or in connection with other projects. If you would prefer to not be in photos please let staff at The Basement know.
URL:https://lovehelston.co.uk/event/stainedglasswindow/
LOCATION:The Basement\, Helston Gateway\, The Parade\, Helston\, Cornwall\, TR13 8RT\, United Kingdom
CATEGORIES:Free event,The Basement
ATTACH;FMTTYPE=image/png:https://lovehelston.co.uk/wp-content/uploads/2026/03/Untitled-design-26.png
END:VEVENT
BEGIN:VEVENT
DTSTART;TZID=Europe/London:20260403T150000
DTEND;TZID=Europe/London:20260403T170000
DTSTAMP:20260425T142910
CREATED:20260309T131204Z
LAST-MODIFIED:20260331T094423Z
UID:10000437-1775228400-1775235600@lovehelston.co.uk
SUMMARY:Design a "stained glass" window for Helston
DESCRIPTION:Become part of Helston’s History\nMulti-media art workshop (11+)\n3pm – 5pm Good Friday (FREE)\nJoin artist Melanie Young and contribute to the design of a new “stained glass” window for the Museum of Cornish Life. \nUsing images from the museum as inspiration create your own drawings which will be transferred onto vinyl. This modern technique allows you draw anything you like\, to any scale and once printed instantly apply it\, creating a beautiful “stained glass” effect. The designs from this and other community workshops will be applied to one of the windows in the museum creating a fantastic visual picture for everyone to see. \nNo experience necessary\, everybody welcome. \nWhat do I need to know? \n\nWho is The Basement for?\nThe Basement isn’t just another youth centre – it’s the space you asked for\, designed by you\, built for you. The space is primarily for 13-18 year olds. Your basement. Your rules. Your future starts here.\n\nI need dropping off in a car. Where?\nThe Basement is in Trengrouse Way pay and display car park. \n\n\nDo I have to book?\nWe have a limited capacity and booking means we can guarantee you a space. You can still turn up on the day and\, if we have room\, you’ll be able to come in. \n\n\nWhat is access like?\nWe have level\, step-free access from the car park into the building as well as accessible toilets. If you have additional access needs please contact us on jonathan@lovehelston.co.uk or drop in. \n\n\nWhere is The Basement?\nWe are in the basement of Helston Gateway (the former Budgens supermarket building) next to The Parade and in Trengrouse Way car park. \n\n\nWhere can I find out more about The Basement?\nOn our website at www.lovehelston.co.uk or by contacting Jonathan at jonathan@lovehelston.co.uk \n\n\nWill you be taking photos and video?\nWe often take photos so let everyone you’re booking tickets for know this. These photos\, films and recordings may be used at any time in print and online for evaluation\, promotion or in connection with other projects. If you would prefer to not be in photos please let staff at The Basement know.
URL:https://lovehelston.co.uk/event/design-a-stained-glass-window-for-helston/
LOCATION:The Basement\, Helston Gateway\, The Parade\, Helston\, Cornwall\, TR13 8RT\, United Kingdom
CATEGORIES:Free event,The Basement
ATTACH;FMTTYPE=image/png:https://lovehelston.co.uk/wp-content/uploads/2026/03/Untitled-design-26.png
END:VEVENT
END:VCALENDAR