BEGIN:VCALENDAR
VERSION:2.0
PRODID:-//Love Helston | South Kerrier Alliance CIC - ECPv6.9.0//NONSGML v1.0//EN
CALSCALE:GREGORIAN
METHOD:PUBLISH
X-WR-CALNAME:Love Helston | South Kerrier Alliance CIC
X-ORIGINAL-URL:https://lovehelston.co.uk
X-WR-CALDESC:Events for Love Helston | South Kerrier Alliance CIC
REFRESH-INTERVAL;VALUE=DURATION:PT1H
X-Robots-Tag:noindex
X-PUBLISHED-TTL:PT1H
BEGIN:VTIMEZONE
TZID:Europe/London
BEGIN:DAYLIGHT
TZOFFSETFROM:+0000
TZOFFSETTO:+0100
TZNAME:BST
DTSTART:20260329T010000
END:DAYLIGHT
BEGIN:STANDARD
TZOFFSETFROM:+0100
TZOFFSETTO:+0000
TZNAME:GMT
DTSTART:20261025T010000
END:STANDARD
END:VTIMEZONE
BEGIN:VEVENT
DTSTART;TZID=Europe/London:20260409T123000
DTEND;TZID=Europe/London:20260409T153000
DTSTAMP:20260425T143013
CREATED:20250801T120657Z
LAST-MODIFIED:20260311T104726Z
UID:10000061-1775737800-1775748600@lovehelston.co.uk
SUMMARY:Wild about Wildlife
DESCRIPTION:Wild about Wildlife\nOrganised by South Kerrier Alliance CIC\nThursday 9th April\nFREE EVENT\n\n\n\n\n\n\nWild adventures for all the family! \n🐾 Get up close with amazing animals thanks to Mark’s Ark Wildlife Encounters — a fantastic chance to meet some fascinating creatures! \n🦋 Discover how you can help nature! Chat with local charities and learn about the incredible work being done by: \n\n\nPorthleven Harbour Hedgies \n\n\nBritish Divers Marine Life Rescue \n\n\nThe Wildlife Trusts \n\n\n🎨 Plus\, enjoy face painting with wild and wonderful designs — perfect for kids (and the young at heart)! \n💚 While the event is free\, we kindly encourage donations to support these brilliant wildlife charities. Bring some pennies to make a big difference! \n\n\n\n\nWhat do I need to know? \n\nLakeside Cafe will be open\, serving a range of hot and cold drinks\, snacks and meals.\nThis event takes place in a circus tent in Coronation Park \, beside Lakeside Cafe at Coronation Park\, Helston\, TR13 0RA.\nThere is a small pay and display car park at Coronation Park\, proceeds from the car park supports the running of Coronation Park. There is a larger Cornwall Council pay and display car park at Castle Green. Free parking is available at the nearby Fairground car park.\nThere is level access to Coronation Park and Events Square.\nThere are accessible toilets at the rear of Lakeside Cafe.\nEvents may be filmed or photographed and the material may be used by the South Kerrier Alliance CIC and it’s partner companies/organisations at any time for evaluation\, promotion or other projects. Please be aware that it is the ticket buyer’s responsibility to inform members of their party that this will be happening.
URL:https://lovehelston.co.uk/event/wild-about-wildlife/
LOCATION:Coronation Park\, Porthleven Rd\, Helston\, Cornwall\, TR13 0RA\, United Kingdom
CATEGORIES:Coronation Park Events,Free event
ATTACH;FMTTYPE=image/jpeg:https://lovehelston.co.uk/wp-content/uploads/2025/08/Wild-about-wildlife-April-26-Presentation.jpg
END:VEVENT
END:VCALENDAR