BEGIN:VCALENDAR
VERSION:2.0
PRODID:-//Love Helston | South Kerrier Alliance CIC - ECPv6.9.0//NONSGML v1.0//EN
CALSCALE:GREGORIAN
METHOD:PUBLISH
X-WR-CALNAME:Love Helston | South Kerrier Alliance CIC
X-ORIGINAL-URL:https://lovehelston.co.uk
X-WR-CALDESC:Events for Love Helston | South Kerrier Alliance CIC
REFRESH-INTERVAL;VALUE=DURATION:PT1H
X-Robots-Tag:noindex
X-PUBLISHED-TTL:PT1H
BEGIN:VTIMEZONE
TZID:Europe/London
BEGIN:DAYLIGHT
TZOFFSETFROM:+0000
TZOFFSETTO:+0100
TZNAME:BST
DTSTART:20260329T010000
END:DAYLIGHT
BEGIN:STANDARD
TZOFFSETFROM:+0100
TZOFFSETTO:+0000
TZNAME:GMT
DTSTART:20261025T010000
END:STANDARD
END:VTIMEZONE
BEGIN:VEVENT
DTSTART;TZID=Europe/London:20260411T100000
DTEND;TZID=Europe/London:20260411T130000
DTSTAMP:20260425T142904
CREATED:20260316T195854Z
LAST-MODIFIED:20260316T201825Z
UID:10000497-1775901600-1775912400@lovehelston.co.uk
SUMMARY:Your Story\, Your Art
DESCRIPTION:A new creative programme for teens\nLed by Open The Box Arts (13+)\nSaturday 10am-1pm\nYour Story\, Your Art! \nA creative programme for teens aimed at bring young people together to amplify their voices and tell their stories about our town. \nOver three months\, we’re bringing together a crew of young people from across Helston to co-create a workshop programme that you shape and lead. Think zine-making\, storytelling\, art\, writing\, and more — using professional materials\, working with brilliant artists\, and making something real together. The programme will end with a sharing and exhibition at The Basement on Saturday 13 June.  \nNo pressure. No auditions. Just good people\, good creative work\, and a place where you belong. \nWant in? Sign up here \nFor Parents and Carers \nThe Basement is a neutral\, welcoming space in Helston town centre — not attached to any school or existing group — where young people aged 11–18 can meet\, create\, and build new friendships. \nThis pilot project uses high-quality creative workshops to support confidence\, wellbeing\, and self-expression. Young people aren’t just participants — they help shape the programme itself\, giving them a genuine voice and a real sense of ownership. \nLed by professional artists and makers\, workshops are inclusive\, safe\, and designed to bring together young people from different backgrounds around shared creative goals. \nThis group will meet on a mixture of Saturday mornings and Monday evenings. \nThis is a pilot project. What we learn will inform a longer 18-month programme that we hope to secure funding for. Your young person’s experience and ideas will help shape what comes next. \nWhat do I need to know? \n\nWho is The Basement for?\nThe Basement isn’t just another youth centre – it’s the space you asked for\, designed by you\, built for you. The space is primarily for 13-18 year olds. Your basement. Your rules. Your future starts here.\n\nI need dropping off in a car. Where?\nThe Basement is in Trengrouse Way pay and display car park. \n\n\nDo I have to book?\nWe have a limited capacity and booking means we can guarantee you a space. You can still turn up on the day and\, if we have room\, you’ll be able to come in. \n\n\nWhat is access like?\nWe have level\, step-free access from the car park into the building as well as accessible toilets. If you have additional access needs please contact us on jonathan@lovehelston.co.uk or drop in. \n\n\nWhere is The Basement?\nWe are in the basement of Helston Gateway (the former Budgens supermarket building) next to The Parade and in Trengrouse Way car park. \n\n\nWhere can I find out more about The Basement?\nOn our website at www.lovehelston.co.uk or by contacting Jonathan at jonathan@lovehelston.co.uk \n\n\nWill you be taking photos and video?\nWe often take photos so let everyone you’re booking tickets for know this. These photos\, films and recordings may be used at any time in print and online for evaluation\, promotion or in connection with other projects. If you would prefer to not be in photos please let staff at The Basement know.
URL:https://lovehelston.co.uk/event/your-story-your-art/2026-04-11/
LOCATION:The Basement\, Helston Gateway\, The Parade\, Helston\, Cornwall\, TR13 8RT\, United Kingdom
CATEGORIES:Free event,The Basement
ATTACH;FMTTYPE=image/png:https://lovehelston.co.uk/wp-content/uploads/2026/03/Untitled-design-32.png
END:VEVENT
END:VCALENDAR