BEGIN:VCALENDAR
VERSION:2.0
PRODID:-//Love Helston | South Kerrier Alliance CIC - ECPv6.9.0//NONSGML v1.0//EN
CALSCALE:GREGORIAN
METHOD:PUBLISH
X-ORIGINAL-URL:https://lovehelston.co.uk
X-WR-CALDESC:Events for Love Helston | South Kerrier Alliance CIC
REFRESH-INTERVAL;VALUE=DURATION:PT1H
X-Robots-Tag:noindex
X-PUBLISHED-TTL:PT1H
BEGIN:VTIMEZONE
TZID:Europe/London
BEGIN:DAYLIGHT
TZOFFSETFROM:+0000
TZOFFSETTO:+0100
TZNAME:BST
DTSTART:20260329T010000
END:DAYLIGHT
BEGIN:STANDARD
TZOFFSETFROM:+0100
TZOFFSETTO:+0000
TZNAME:GMT
DTSTART:20261025T010000
END:STANDARD
END:VTIMEZONE
BEGIN:VEVENT
DTSTART;TZID=Europe/London:20260523T090000
DTEND;TZID=Europe/London:20260531T163000
DTSTAMP:20260425T154559
CREATED:20260316T205058Z
LAST-MODIFIED:20260318T104407Z
UID:10000501-1779526800-1780245000@lovehelston.co.uk
SUMMARY:Bobo's Giant Seedling Trail
DESCRIPTION:Bobo’s Giant Seedling Trail\nTrevow Helston & Cousin Jack’s\nMay Half Term\nFREE EVENT\nSomething strange has happened — Bobo’s giant seedlings have escaped and are hiding all over Helston! Can you find them all? \nBobo\, the loveable character from Caroline Pedler’s The Accidental Gardener\, has been busy planting up his seedlings – but these aren’t ordinary seedlings. \nWeird\, wonderful\, colourful and made from all sorts of materials by members of the community\, the giant seedlings have popped up in shops and venues right across town. \nYour mission: find them all\, complete your trail\, then head to Lakeside Cafe at Coronation Park to claim your prize! \nRunning throughout May half term\, this free family trail is the perfect excuse to explore Helston’s shops and streets with your family before heading to Coronation Park. \nPick up a trail from anywhere in town displaying a seedling – don’t worry\, you’ll spot them. \nEvent-Specific Information \n\nSuitable for all ages.\nThis is a free\, self-guided trail. No booking required.\nThe trail runs across Helston town centre\, not just the park.\nPick up a trail from Lakeside Cafe at Coronation Park or from participating shops and venues across town.\nPrizes can be claimed at Lakeside Cafe in Coronation Park.\nAlso happening during May half term: Story Quest Day at Coronation Park (Friday 30th May) — a creative outdoor adventure where stories come to life across the park\, rounding off a week-long celebration of words and stories in Helston.\n\nWhat do I need to know? \n\nThe trail finishes at Coronation Park\, Helston\, TR13 0RA\, but takes place across town.\nLakeside Cafe will be open serving hot and cold drinks\, ice creams\, cakes and a range of family-friendly meals.\nThe trail runs in all weather – so bring a coat on wet days!\nThere is a small pay and display car park at Coronation Park — all proceeds support the running of the park. There is a larger pay and display car park at Castle Green. Free parking is available at the nearby Fairground car park.\nIf you have any additional access needs that you’d like to discuss with us\, please email Guy at guy@lovehelston.co.uk.\nThere are accessible toilets at the rear of Lakeside Cafe.\nEvents may be filmed or photographed and the material may be used by the South Kerrier Alliance CIC and its partner companies/organisations for evaluation\, promotion or other projects. Please make sure everyone in your party is aware of this.
URL:https://lovehelston.co.uk/event/bobos-giant-seedling-trail/
LOCATION:Coronation Park\, Porthleven Rd\, Helston\, Cornwall\, TR13 0RA\, United Kingdom
CATEGORIES:Coronation Park Events,Free event
ATTACH;FMTTYPE=image/png:https://lovehelston.co.uk/wp-content/uploads/2026/03/Bobo-trail.png
END:VEVENT
END:VCALENDAR