BEGIN:VCALENDAR
VERSION:2.0
PRODID:-//Love Helston | South Kerrier Alliance CIC - ECPv6.9.0//NONSGML v1.0//EN
CALSCALE:GREGORIAN
METHOD:PUBLISH
X-WR-CALNAME:Love Helston | South Kerrier Alliance CIC
X-ORIGINAL-URL:https://lovehelston.co.uk
X-WR-CALDESC:Events for Love Helston | South Kerrier Alliance CIC
REFRESH-INTERVAL;VALUE=DURATION:PT1H
X-Robots-Tag:noindex
X-PUBLISHED-TTL:PT1H
BEGIN:VTIMEZONE
TZID:Europe/London
BEGIN:DAYLIGHT
TZOFFSETFROM:+0000
TZOFFSETTO:+0100
TZNAME:BST
DTSTART:20260329T010000
END:DAYLIGHT
BEGIN:STANDARD
TZOFFSETFROM:+0100
TZOFFSETTO:+0000
TZNAME:GMT
DTSTART:20261025T010000
END:STANDARD
END:VTIMEZONE
BEGIN:VEVENT
DTSTART;TZID=Europe/London:20260831T143000
DTEND;TZID=Europe/London:20260831T153000
DTSTAMP:20260425T220026
CREATED:20260323T201653Z
LAST-MODIFIED:20260323T201653Z
UID:10000543-1788186600-1788190200@lovehelston.co.uk
SUMMARY:Squashbox: The Sea Show
DESCRIPTION:Squashbox: The Sea Show\nSupported by Lakeside Cafe\nMonday 31st August | 2.30pm\nFREE EVENT\nMeet mermaids\, reformed seagulls and salty seadogs! Squashbox Theatre close out the Coronation Park summer season with The Sea Show — a quirky and hilarious mix of puppet show\, natural history and comedy cabaret. \nMeet crazy characters like Morwenna the ‘beautiful’ mermaid\, Ruan the reformed seagull and salty seadog Captain Pemburthy\, alongside a cast of mischievous sea-squirts\, anemones\, limpets\, crabs and pilchards. Celebrate the sea with tall tales\, silly slapstick\, fantastic facts\, live music and songs — unmissable fun for children and adults of all ages! \nThe perfect way to round off a brilliant summer at the park. We’re grateful for the kind support of Lakeside Cafe\, whose generous sponsorship helps us bring Squashbox Theatre to the park for free every summer. \nThe Sea Show is the last of four free Squashbox shows at Coronation Park this summer: \n\nCurious Creatures — Friday 13th June\, 2.30pm\nStones & Bones — Monday 4th August\, 2.30pm\nSkillywidden — Saturday 22nd August\, 2.30pm\nThe Sea Show — Sunday 31st August\, 2.30pm\n\nAll four shows are completely free\, thanks to Lakeside Cafe. \nSupport free events at Coronation Park \nThis year\, over 60% of our events at Coronation Park are completely free. We do this because we believe that everyone in Helston and on The Lizard deserves access to brilliant events — regardless of what’s in their pocket. The South Kerrier Alliance CIC is a not-for-profit organisation and we don’t receive any regular public funding. Every free event we put on is only possible because of the support of people like you. If days like this matter to you and your community\, please consider making a donation here. \nEvent-Specific Information \n\nSuitable for all ages.\nApproximate running time: 50 minutes.\nThis is a free event. No booking required — just turn up!\nThe last event of the summer season — don’t miss it!\n\nWhat do I need to know? \n\nThis open-air event takes place in Events Square\, directly outside Lakeside Cafe at Coronation Park\, Helston\, TR13 0RA.\nPlease bring your own chairs and/or blankets. Seating is not provided.\nLakeside Cafe will be open serving hot and cold drinks\, ice creams\, cakes and a range of family-friendly meals.\nOutdoor events will only be cancelled in extreme weather conditions\, so please dress for the Cornish weather and bring a coat. Please don’t bring umbrellas as they block the view for other audience members.\nThere is a small pay and display car park at Coronation Park — all proceeds support the running of the park. There is a larger pay and display car park at Castle Green and at the nearby Fairground car park.\nThere is level access to Coronation Park and Events Square. If you have any additional access needs that you’d like to discuss with us\, please email Guy at guy@lovehelston.co.uk.\nThere are accessible toilets at the rear of Lakeside Cafe.\nEvents may be filmed or photographed and the material may be used by the South Kerrier Alliance CIC and its partner companies/organisations for evaluation\, promotion or other projects. Please make sure everyone in your party is aware of this.
URL:https://lovehelston.co.uk/event/squashbox-the-sea-show/
LOCATION:Coronation Park\, Porthleven Rd\, Helston\, Cornwall\, TR13 0RA\, United Kingdom
CATEGORIES:Coronation Park Events,Free event
ATTACH;FMTTYPE=image/png:https://lovehelston.co.uk/wp-content/uploads/2026/03/Sea-Show.png
END:VEVENT
END:VCALENDAR